BEGIN:VCALENDAR
VERSION:2.0
PRODID:Linklings LLC
BEGIN:VTIMEZONE
TZID:America/Chicago
X-LIC-LOCATION:America/Chicago
BEGIN:DAYLIGHT
TZOFFSETFROM:-0600
TZOFFSETTO:-0500
TZNAME:CDT
DTSTART:19700308T020000
RRULE:FREQ=YEARLY;BYMONTH=3;BYDAY=2SU
END:DAYLIGHT
BEGIN:STANDARD
TZOFFSETFROM:-0500
TZOFFSETTO:-0600
TZNAME:CST
DTSTART:19701101T020000
RRULE:FREQ=YEARLY;BYMONTH=11;BYDAY=1SU
END:STANDARD
END:VTIMEZONE
BEGIN:VEVENT
DTSTAMP:20181221T160731Z
LOCATION:D161
DTSTART;TZID=America/Chicago:20181116T115500
DTEND;TZID=America/Chicago:20181116T120000
UID:submissions.supercomputing.org_SC18_sess153_pec404@linklings.com
SUMMARY:ESPT Closing Remarks
DESCRIPTION:Workshop\nPerformance, Productivity, Workshop Reg Pass\n\nESPT
  Closing Remarks\n\nWolf
URL:https://sc18.supercomputing.org/presentation/?id=pec404&sess=sess153
END:VEVENT
END:VCALENDAR

