BEGIN:VCALENDAR
VERSION:2.0
PRODID:Linklings LLC
BEGIN:VTIMEZONE
TZID:America/Chicago
X-LIC-LOCATION:America/Chicago
BEGIN:DAYLIGHT
TZOFFSETFROM:-0600
TZOFFSETTO:-0500
TZNAME:CDT
DTSTART:19700308T020000
RRULE:FREQ=YEARLY;BYMONTH=3;BYDAY=2SU
END:DAYLIGHT
BEGIN:STANDARD
TZOFFSETFROM:-0500
TZOFFSETTO:-0600
TZNAME:CST
DTSTART:19701101T020000
RRULE:FREQ=YEARLY;BYMONTH=11;BYDAY=1SU
END:STANDARD
END:VTIMEZONE
BEGIN:VEVENT
DTSTAMP:20181221T160726Z
LOCATION:D161
DTSTART;TZID=America/Chicago:20181111T140000
DTEND;TZID=America/Chicago:20181111T142000
UID:submissions.supercomputing.org_SC18_sess156_ws_pmes103@linklings.com
SUMMARY:Doing Moore with Less – Leapfrogging Moore’s Law with Inexactness 
 for Supercomputing
DESCRIPTION:Workshop\nArchitectures, Heterogeneous Systems, Quantum Comput
 ing, Workshop Reg Pass\n\nDoing Moore with Less – Leapfrogging Moore’s Law
  with Inexactness for Supercomputing\n\nLeyffer, Wild, Fagan, Snir, Palem.
 ..\n\nWe investigate the use of inexactness, to trade solution quality wit
 h energy savings to reduce power consumption in HPC systems, using commerc
 ial off-the-shelf processors for lower-precision arithmetic. We implement 
 an inexact Newton algorithm for solving nonlinear equations to show how to
  reinvest energy savings to improve solution quality. We provide an analyt
 ical model to explain our findings, and provide a justification for using 
 nonstandard half-precision arithmetic for ill-conditioned problems.
URL:https://sc18.supercomputing.org/presentation/?id=ws_pmes103&sess=sess1
 56
END:VEVENT
END:VCALENDAR

