BEGIN:VCALENDAR
VERSION:2.0
PRODID:Linklings LLC
BEGIN:VTIMEZONE
TZID:America/Chicago
X-LIC-LOCATION:America/Chicago
BEGIN:DAYLIGHT
TZOFFSETFROM:-0600
TZOFFSETTO:-0500
TZNAME:CDT
DTSTART:19700308T020000
RRULE:FREQ=YEARLY;BYMONTH=3;BYDAY=2SU
END:DAYLIGHT
BEGIN:STANDARD
TZOFFSETFROM:-0500
TZOFFSETTO:-0600
TZNAME:CST
DTSTART:19701101T020000
RRULE:FREQ=YEARLY;BYMONTH=11;BYDAY=1SU
END:STANDARD
END:VTIMEZONE
BEGIN:VEVENT
DTSTAMP:20181221T160726Z
LOCATION:D161
DTSTART;TZID=America/Chicago:20181111T144000
DTEND;TZID=America/Chicago:20181111T150000
UID:submissions.supercomputing.org_SC18_sess156_ws_pmes105@linklings.com
SUMMARY:Non-Neural Network Applications for Spiking Neuromorphic Hardware
DESCRIPTION:Workshop\nArchitectures, Heterogeneous Systems, Quantum Comput
 ing, Workshop Reg Pass\n\nNon-Neural Network Applications for Spiking Neur
 omorphic Hardware\n\nAimone, Hamilton, Mniszewski, Reeder, Schuman...\n\nI
 ncreasing power costs for large-scale computing in a post-Moore’s Law syst
 em have forced the high-performance computing community to explore heterog
 eneous systems.  Neuromorphic architectures, inspired by biological neural
  systems, have so far been relegated to auxiliary machine learning applica
 tions.  Here, we discuss growing research showing the viability of ultra-l
 ow-power neural accelerators as co-processors for classic compute algorith
 ms, such as random walk simulations and graph analytics.
URL:https://sc18.supercomputing.org/presentation/?id=ws_pmes105&sess=sess1
 56
END:VEVENT
END:VCALENDAR

