BEGIN:VCALENDAR
VERSION:2.0
PRODID:Linklings LLC
BEGIN:VTIMEZONE
TZID:America/Chicago
X-LIC-LOCATION:America/Chicago
BEGIN:DAYLIGHT
TZOFFSETFROM:-0600
TZOFFSETTO:-0500
TZNAME:CDT
DTSTART:19700308T020000
RRULE:FREQ=YEARLY;BYMONTH=3;BYDAY=2SU
END:DAYLIGHT
BEGIN:STANDARD
TZOFFSETFROM:-0500
TZOFFSETTO:-0600
TZNAME:CST
DTSTART:19701101T020000
RRULE:FREQ=YEARLY;BYMONTH=11;BYDAY=1SU
END:STANDARD
END:VTIMEZONE
BEGIN:VEVENT
DTSTAMP:20181221T160726Z
LOCATION:D161
DTSTART;TZID=America/Chicago:20181111T113000
DTEND;TZID=America/Chicago:20181111T115000
UID:submissions.supercomputing.org_SC18_sess156_ws_pmes107@linklings.com
SUMMARY:Community Detection Across Emerging Quantum Architectures
DESCRIPTION:Workshop\nArchitectures, Heterogeneous Systems, Quantum Comput
 ing, Workshop Reg Pass\n\nCommunity Detection Across Emerging Quantum Arch
 itectures\n\nShaydulin, Ushijima-Mwesigwa, Safro, Mniszewski, Alexeev\n\nO
 ne of the roadmap plans for quantum computers is an integration within HPC
  ecosystems assigning them a role of accelerators for a variety of computa
 tionally hard tasks. However, in the near term, quantum hardware will be i
 n a constant state of change. Heading towards solving real-world problems,
  we advocate development of portable, architecture-agnostic hybrid quantum
 -classical frameworks and demonstrate one for the community detection prob
 lem evaluated using quantum annealing and gate-based universal quantum com
 putation paradigms.
URL:https://sc18.supercomputing.org/presentation/?id=ws_pmes107&sess=sess1
 56
END:VEVENT
END:VCALENDAR

