BEGIN:VCALENDAR
VERSION:2.0
PRODID:Linklings LLC
BEGIN:VTIMEZONE
TZID:America/Chicago
X-LIC-LOCATION:America/Chicago
BEGIN:DAYLIGHT
TZOFFSETFROM:-0600
TZOFFSETTO:-0500
TZNAME:CDT
DTSTART:19700308T020000
RRULE:FREQ=YEARLY;BYMONTH=3;BYDAY=2SU
END:DAYLIGHT
BEGIN:STANDARD
TZOFFSETFROM:-0500
TZOFFSETTO:-0600
TZNAME:CST
DTSTART:19701101T020000
RRULE:FREQ=YEARLY;BYMONTH=11;BYDAY=1SU
END:STANDARD
END:VTIMEZONE
BEGIN:VEVENT
DTSTAMP:20181221T160726Z
LOCATION:D161
DTSTART;TZID=America/Chicago:20181111T142000
DTEND;TZID=America/Chicago:20181111T144000
UID:submissions.supercomputing.org_SC18_sess156_ws_pmes109@linklings.com
SUMMARY:A Task-Based Abstraction Layer for User Productivity and Performan
 ce Portability in Post-Moore’s Era Supercomputing
DESCRIPTION:Workshop\nArchitectures, Heterogeneous Systems, Quantum Comput
 ing, Workshop Reg Pass\n\nA Task-Based Abstraction Layer for User Producti
 vity and Performance Portability in Post-Moore’s Era Supercomputing\n\nPet
 ruzza, Gyulassy, Pascucci, Bremer\n\nThe proliferation of heterogeneous co
 mputing architectures in current and future supercomputing systems dramati
 cally increases the complexity of software development and exacerbates the
  divergence of software stacks. Currently, task-based runtimes attempt to 
 alleviate these impediments, however their effective use requires expertis
 e and deep integration that does not facilitate reuse and portability. We 
 propose to introduce a task-based abstraction layer that separates the def
 inition of the algorithm from the runtime-specific implementation, while m
 aintaining performance portability.
URL:https://sc18.supercomputing.org/presentation/?id=ws_pmes109&sess=sess1
 56
END:VEVENT
END:VCALENDAR

