BEGIN:VCALENDAR
VERSION:2.0
PRODID:Linklings LLC
BEGIN:VTIMEZONE
TZID:America/Chicago
X-LIC-LOCATION:America/Chicago
BEGIN:DAYLIGHT
TZOFFSETFROM:-0600
TZOFFSETTO:-0500
TZNAME:CDT
DTSTART:19700308T020000
RRULE:FREQ=YEARLY;BYMONTH=3;BYDAY=2SU
END:DAYLIGHT
BEGIN:STANDARD
TZOFFSETFROM:-0500
TZOFFSETTO:-0600
TZNAME:CST
DTSTART:19701101T020000
RRULE:FREQ=YEARLY;BYMONTH=11;BYDAY=1SU
END:STANDARD
END:VTIMEZONE
BEGIN:VEVENT
DTSTAMP:20181221T160725Z
LOCATION:D163
DTSTART;TZID=America/Chicago:20181111T103000
DTEND;TZID=America/Chicago:20181111T110000
UID:submissions.supercomputing.org_SC18_sess159_pec285@linklings.com
SUMMARY:INDIS Morning Keynote
DESCRIPTION:Workshop\nArchitectures, Networks, Security, Workshop Reg Pass
 \n\nINDIS Morning Keynote\n\nBailey\n\nJosh Bailey will give a keynote on 
 FAUCET. FAUCET is an open source, production SDN controller, supporting mu
 ltiple network vendors, and is deployed as part of SC18's SCinet network a
 mong other networks. This talk will be an update on FAUCET's current statu
 s and features and an informal Q&A on the state of OpenFlow implementation
 s in practical, production settings.
URL:https://sc18.supercomputing.org/presentation/?id=pec285&sess=sess159
END:VEVENT
END:VCALENDAR

