BEGIN:VCALENDAR
VERSION:2.0
PRODID:Linklings LLC
BEGIN:VTIMEZONE
TZID:America/Chicago
X-LIC-LOCATION:America/Chicago
BEGIN:DAYLIGHT
TZOFFSETFROM:-0600
TZOFFSETTO:-0500
TZNAME:CDT
DTSTART:19700308T020000
RRULE:FREQ=YEARLY;BYMONTH=3;BYDAY=2SU
END:DAYLIGHT
BEGIN:STANDARD
TZOFFSETFROM:-0500
TZOFFSETTO:-0600
TZNAME:CST
DTSTART:19701101T020000
RRULE:FREQ=YEARLY;BYMONTH=11;BYDAY=1SU
END:STANDARD
END:VTIMEZONE
BEGIN:VEVENT
DTSTAMP:20181221T160726Z
LOCATION:D163
DTSTART;TZID=America/Chicago:20181111T140000
DTEND;TZID=America/Chicago:20181111T143000
UID:submissions.supercomputing.org_SC18_sess159_ws_indis105@linklings.com
SUMMARY:SDN for End-to-End Networked Science at the Exascale (SENSE)
DESCRIPTION:Workshop\nArchitectures, Networks, Security, Workshop Reg Pass
 \n\nSDN for End-to-End Networked Science at the Exascale (SENSE)\n\nMonga,
  Guok, MacAuley, Sim, Newman...\n\nThe Software-defined network for End-to
 -end Networked Science at Exascale (SENSE) research project is building sm
 art network services to accelerate scientific discovery in the era of ‘big
  data’ driven by Exascale, cloud computing, machine learning and AI. The p
 roject’s architecture, models, and demonstrated prototype define the mecha
 nisms needed to dynamically build end-to-end virtual guaranteed networks a
 cross administrative domains, with no manual intervention. In addition, a 
 highly intuitive ‘intent’ based interface, as defined by the project, allo
 ws applications to express their high-level service requirements, and an i
 ntelligent, scalable model-based software orchestrator converts that inten
 t into appropriate network services, configured across multiple types of d
 evices. The significance of these capabilities is the ability for science 
 applications to manage the network as a first-class schedulable resource a
 kin to instruments, compute, and storage, to enable well defined and highl
 y tuned complex workflows that require close coupling of resources spread 
 across a vast geographic footprint such as those used in science domains l
 ike high-energy physics and basic energy sciences.
URL:https://sc18.supercomputing.org/presentation/?id=ws_indis105&sess=sess
 159
END:VEVENT
END:VCALENDAR

