BEGIN:VCALENDAR
VERSION:2.0
PRODID:Linklings LLC
BEGIN:VTIMEZONE
TZID:America/Chicago
X-LIC-LOCATION:America/Chicago
BEGIN:DAYLIGHT
TZOFFSETFROM:-0600
TZOFFSETTO:-0500
TZNAME:CDT
DTSTART:19700308T020000
RRULE:FREQ=YEARLY;BYMONTH=3;BYDAY=2SU
END:DAYLIGHT
BEGIN:STANDARD
TZOFFSETFROM:-0500
TZOFFSETTO:-0600
TZNAME:CST
DTSTART:19701101T020000
RRULE:FREQ=YEARLY;BYMONTH=11;BYDAY=1SU
END:STANDARD
END:VTIMEZONE
BEGIN:VEVENT
DTSTAMP:20181221T160726Z
LOCATION:D220
DTSTART;TZID=America/Chicago:20181111T153000
DTEND;TZID=America/Chicago:20181111T173000
UID:submissions.supercomputing.org_SC18_sess160_pec355@linklings.com
SUMMARY:Developing Workplace Resilience and Managing Stress
DESCRIPTION:Workshop\nDiversity, Education, Hot Topics, Workshop Reg Pass\
 n\nDeveloping Workplace Resilience and Managing Stress\n\nCollis\n\nThe fi
 rst part of this session "strategies to build resilience" (1 hour) will pr
 ovide a hands on discussion session working through the resilience toolkit
 . The second half will be a "Panel Discussion and Interactive session"— id
 entifying your personal triggers, how to manage triggers and resilience.
URL:https://sc18.supercomputing.org/presentation/?id=pec355&sess=sess160
END:VEVENT
END:VCALENDAR

