BEGIN:VCALENDAR
VERSION:2.0
PRODID:Linklings LLC
BEGIN:VTIMEZONE
TZID:America/Chicago
X-LIC-LOCATION:America/Chicago
BEGIN:DAYLIGHT
TZOFFSETFROM:-0600
TZOFFSETTO:-0500
TZNAME:CDT
DTSTART:19700308T020000
RRULE:FREQ=YEARLY;BYMONTH=3;BYDAY=2SU
END:DAYLIGHT
BEGIN:STANDARD
TZOFFSETFROM:-0500
TZOFFSETTO:-0600
TZNAME:CST
DTSTART:19701101T020000
RRULE:FREQ=YEARLY;BYMONTH=11;BYDAY=1SU
END:STANDARD
END:VTIMEZONE
BEGIN:VEVENT
DTSTAMP:20181221T160725Z
LOCATION:D220
DTSTART;TZID=America/Chicago:20181111T090000
DTEND;TZID=America/Chicago:20181111T090500
UID:submissions.supercomputing.org_SC18_sess160_wksp125@linklings.com
SUMMARY:Introduction - Women in HPC: Diversifying the HPC Community
DESCRIPTION:Workshop\nDiversity, Education, Hot Topics, Workshop Reg Pass\
 n\nIntroduction - Women in HPC: Diversifying the HPC Community\n\nMubarak,
  Gonsiorowski, Collis\n\nThe ninth international Women in HPC workshop wil
 l be held at SC18, Dallas, USA. Following the overwhelming success of the 
 WHPC workshop at SC17, we will focus on the following topics this year:\n-
  Building workplace resilience and maintaining well-being, while managing 
 work stress.\n- Being part of the solution: instructions for advocates and
  allies.\n- Best practices from organizations on improving workplace diver
 sity.\n- Managing the two body problem and achieving effective work-life b
 alance.\n\nWe will also provide opportunities aimed at promoting and provi
 ding women with the skills to thrive in HPC including:\n- Short talks by w
 omen working in HPC\n- Pointers on how to handle workplace conflicts and e
 ffectively respond to discrimination \n- Short talks on: best practices fr
 om outside the HPC community for developing equity frameworks, suggestions
  and challenges facing women in venture capital, effectively dealing with 
 workplace discrimination, building a successful career and excelling in th
 e workforce.
URL:https://sc18.supercomputing.org/presentation/?id=wksp125&sess=sess160
END:VEVENT
END:VCALENDAR

