BEGIN:VCALENDAR
VERSION:2.0
PRODID:Linklings LLC
BEGIN:VTIMEZONE
TZID:America/Chicago
X-LIC-LOCATION:America/Chicago
BEGIN:DAYLIGHT
TZOFFSETFROM:-0600
TZOFFSETTO:-0500
TZNAME:CDT
DTSTART:19700308T020000
RRULE:FREQ=YEARLY;BYMONTH=3;BYDAY=2SU
END:DAYLIGHT
BEGIN:STANDARD
TZOFFSETFROM:-0500
TZOFFSETTO:-0600
TZNAME:CST
DTSTART:19701101T020000
RRULE:FREQ=YEARLY;BYMONTH=11;BYDAY=1SU
END:STANDARD
END:VTIMEZONE
BEGIN:VEVENT
DTSTAMP:20181221T160726Z
LOCATION:D168
DTSTART;TZID=America/Chicago:20181111T140000
DTEND;TZID=America/Chicago:20181111T141700
UID:submissions.supercomputing.org_SC18_sess165_ws_eduhpcp102@linklings.co
 m
SUMMARY:Filling the Gap between Education and Industry: Evidence-Based Met
 hods for Introducing Undergraduate Students to HPC
DESCRIPTION:Workshop\nDiversity, Education, Workshop Reg Pass\n\nFilling t
 he Gap between Education and Industry: Evidence-Based Methods for Introduc
 ing Undergraduate Students to HPC\n\nBanchelli Gracia, Mantovani\n\nEducat
 ional institutions provide, in most cases, basic theoretical background co
 vering several computational science topics.  However High Performance Com
 puting (HPC) and Parallel and Distributed Computing (PDC) markets require 
 specialized technical profiles. Even the most skilled students are often n
 ot prepared to face production HPC applications of thousand of lines nor c
 omplex computational frameworks from other disciplines nor heterogeneous m
 ultinode machines accessed by hundreds of users. In this paper, we present
  an educational package for filling this gap. Leveraging the 4-year experi
 ence of the Student Cluster Competition, we present our educational journe
 y together with the lessons learned and the outcomes of our methodology. W
 e present how, in a time span of a semester and an affordable budget, a un
 iversity can implement an educational package preparing pupils for startin
 g competitive professional careers. Our findings also highlight that 78% o
 f the students exposed to our methods remain within the HPC high-education
 , research or industry.
URL:https://sc18.supercomputing.org/presentation/?id=ws_eduhpcp102&sess=se
 ss165
END:VEVENT
END:VCALENDAR

