BEGIN:VCALENDAR
VERSION:2.0
PRODID:Linklings LLC
BEGIN:VTIMEZONE
TZID:America/Chicago
X-LIC-LOCATION:America/Chicago
BEGIN:DAYLIGHT
TZOFFSETFROM:-0600
TZOFFSETTO:-0500
TZNAME:CDT
DTSTART:19700308T020000
RRULE:FREQ=YEARLY;BYMONTH=3;BYDAY=2SU
END:DAYLIGHT
BEGIN:STANDARD
TZOFFSETFROM:-0500
TZOFFSETTO:-0600
TZNAME:CST
DTSTART:19701101T020000
RRULE:FREQ=YEARLY;BYMONTH=11;BYDAY=1SU
END:STANDARD
END:VTIMEZONE
BEGIN:VEVENT
DTSTAMP:20181221T160726Z
LOCATION:D168
DTSTART;TZID=America/Chicago:20181111T112100
DTEND;TZID=America/Chicago:20181111T113800
UID:submissions.supercomputing.org_SC18_sess165_ws_eduhpcp105@linklings.co
 m
SUMMARY:Employing Student Retention Strategies for an Introductory GPU Pro
 gramming Course
DESCRIPTION:Workshop\nDiversity, Education, Workshop Reg Pass\n\nEmploying
  Student Retention Strategies for an Introductory GPU Programming Course\n
 \nGutierrez, Kaeli, Previlon\n\nGraphics Processing Units (GPUs) have beco
 me a vital hardware resource for the industry and research community due t
 o their high computing capabilities. Despite this, GPUs have not been intr
 oduced into the undergraduate curriculum of Computer Engineering and are b
 arely covered in graduate courses.\n\nBreaching the gap between university
  curriculum and industry requirements for GPU expertise is ongoing, but th
 is process takes time. Offering an immediate opportunity for students to l
 earn GPU programming is key for their professional growth.\n\nThe Northeas
 tern University Computer Architecture Research Lab offers a free GPU progr
 amming course to incentivize students from all disciplines to learn how to
  efficiently program a GPU. In this paper, we discuss the methods used to 
 keep students engaged in a course with no academic obligations. By applyin
 g these strategies, we have been able to retain 80% of the students throug
 hout the whole course and obtained positive feedback from students for the
 se strategies.
URL:https://sc18.supercomputing.org/presentation/?id=ws_eduhpcp105&sess=se
 ss165
END:VEVENT
END:VCALENDAR

