BEGIN:VCALENDAR
VERSION:2.0
PRODID:Linklings LLC
BEGIN:VTIMEZONE
TZID:America/Chicago
X-LIC-LOCATION:America/Chicago
BEGIN:DAYLIGHT
TZOFFSETFROM:-0600
TZOFFSETTO:-0500
TZNAME:CDT
DTSTART:19700308T020000
RRULE:FREQ=YEARLY;BYMONTH=3;BYDAY=2SU
END:DAYLIGHT
BEGIN:STANDARD
TZOFFSETFROM:-0500
TZOFFSETTO:-0600
TZNAME:CST
DTSTART:19701101T020000
RRULE:FREQ=YEARLY;BYMONTH=11;BYDAY=1SU
END:STANDARD
END:VTIMEZONE
BEGIN:VEVENT
DTSTAMP:20181221T160728Z
LOCATION:D222
DTSTART;TZID=America/Chicago:20181112T153000
DTEND;TZID=America/Chicago:20181112T163000
UID:submissions.supercomputing.org_SC18_sess166_pec235@linklings.com
SUMMARY:Discussion Session
DESCRIPTION:Workshop\nEducation, Scientific Computing, Training, Workshop 
 Reg Pass\n\nDiscussion Session\n\n
URL:https://sc18.supercomputing.org/presentation/?id=pec235&sess=sess166
END:VEVENT
END:VCALENDAR

