BEGIN:VCALENDAR
VERSION:2.0
PRODID:Linklings LLC
BEGIN:VTIMEZONE
TZID:America/Chicago
X-LIC-LOCATION:America/Chicago
BEGIN:DAYLIGHT
TZOFFSETFROM:-0600
TZOFFSETTO:-0500
TZNAME:CDT
DTSTART:19700308T020000
RRULE:FREQ=YEARLY;BYMONTH=3;BYDAY=2SU
END:DAYLIGHT
BEGIN:STANDARD
TZOFFSETFROM:-0500
TZOFFSETTO:-0600
TZNAME:CST
DTSTART:19701101T020000
RRULE:FREQ=YEARLY;BYMONTH=11;BYDAY=1SU
END:STANDARD
END:VTIMEZONE
BEGIN:VEVENT
DTSTAMP:20181221T160728Z
LOCATION:D222
DTSTART;TZID=America/Chicago:20181112T140000
DTEND;TZID=America/Chicago:20181112T141000
UID:submissions.supercomputing.org_SC18_sess166_ws_bphpcte106@linklings.co
 m
SUMMARY:Toward a HPC Certification Program
DESCRIPTION:Workshop\nEducation, Scientific Computing, Training, Workshop 
 Reg Pass, Lightning Talks and Demos\n\nToward a HPC Certification Program\
 n\nKunkel, Himstedt, Hübbe, Stüben, Schröder...\n\nThe HPC community has a
 lways considered the training of new and existing HPC practitioners to be 
 of high importance to its growth.  This diversification of HPC practitione
 rs challenges the traditional training approaches, which are not able to s
 atisfy the specific needs of users, often coming from non-traditionally HP
 C disciplines, and only interested in learning a particular set of compete
 nces.  Challenges for HPC centers are to identify and overcome the gaps in
  users’ knowledge, while users struggle to identify relevant skills.\n\nWe
  have developed a first version of an HPC certification program that would
  clearly categorize, define, and examine competences.  Making clear what s
 kills are required of or recommended for a competent HPC user would benefi
 t both the HPC service providers and practitioners.  Moreover, it would al
 low centers to bundle together skills that are most beneficial for specifi
 c user roles and scientific domains.  From the perspective of content prov
 iders, existing training material can be mapped to competences allowing us
 ers to quickly identify and learn the skills they require.  Finally, the c
 ertificates recognized by the whole HPC community simplify inter-compariso
 n of independently offered courses and provide additional incentive for pa
 rticipation.
URL:https://sc18.supercomputing.org/presentation/?id=ws_bphpcte106&sess=se
 ss166
END:VEVENT
END:VCALENDAR

