BEGIN:VCALENDAR
VERSION:2.0
PRODID:Linklings LLC
BEGIN:VTIMEZONE
TZID:America/Chicago
X-LIC-LOCATION:America/Chicago
BEGIN:DAYLIGHT
TZOFFSETFROM:-0600
TZOFFSETTO:-0500
TZNAME:CDT
DTSTART:19700308T020000
RRULE:FREQ=YEARLY;BYMONTH=3;BYDAY=2SU
END:DAYLIGHT
BEGIN:STANDARD
TZOFFSETFROM:-0500
TZOFFSETTO:-0600
TZNAME:CST
DTSTART:19701101T020000
RRULE:FREQ=YEARLY;BYMONTH=11;BYDAY=1SU
END:STANDARD
END:VTIMEZONE
BEGIN:VEVENT
DTSTAMP:20181221T160725Z
LOCATION:D171
DTSTART;TZID=America/Chicago:20181111T103000
DTEND;TZID=America/Chicago:20181111T104500
UID:submissions.supercomputing.org_SC18_sess167_ws_rescue101@linklings.com
SUMMARY:Assessing Reproducibility: An Astrophysical Example of Computation
 al Uncertainty in the HPC Context
DESCRIPTION:Workshop\nReproducibility, Software Engineering, Workflows, Wo
 rkshop Reg Pass\n\nAssessing Reproducibility: An Astrophysical Example of 
 Computational Uncertainty in the HPC Context\n\nStodden, Krafczyk\n\nWe pr
 esent an experiment using the Enzo simulation code on NCSA's Blue Waters s
 ystem to highlight the importance of computational and numerical uncertain
 ty in scientific computing on HPC systems. We quantify the (surprising) va
 riability of outputs from 200 identical simulation runs. We make two recom
 mendations to improve the assessment of reproducibility of computational r
 esults: the inclusion of computational variability measures in standard re
 porting practices; and modular software designs that permit localized asse
 ssments of the source of computational uncertainty.
URL:https://sc18.supercomputing.org/presentation/?id=ws_rescue101&sess=ses
 s167
END:VEVENT
END:VCALENDAR

