BEGIN:VCALENDAR
VERSION:2.0
PRODID:Linklings LLC
BEGIN:VTIMEZONE
TZID:America/Chicago
X-LIC-LOCATION:America/Chicago
BEGIN:DAYLIGHT
TZOFFSETFROM:-0600
TZOFFSETTO:-0500
TZNAME:CDT
DTSTART:19700308T020000
RRULE:FREQ=YEARLY;BYMONTH=3;BYDAY=2SU
END:DAYLIGHT
BEGIN:STANDARD
TZOFFSETFROM:-0500
TZOFFSETTO:-0600
TZNAME:CST
DTSTART:19701101T020000
RRULE:FREQ=YEARLY;BYMONTH=11;BYDAY=1SU
END:STANDARD
END:VTIMEZONE
BEGIN:VEVENT
DTSTAMP:20181221T160725Z
LOCATION:D171
DTSTART;TZID=America/Chicago:20181111T104500
DTEND;TZID=America/Chicago:20181111T110000
UID:submissions.supercomputing.org_SC18_sess167_ws_rescue102@linklings.com
SUMMARY:Considering the Development Workflow to Achieve Reproducibility wi
 th Variation
DESCRIPTION:Workshop\nReproducibility, Software Engineering, Workflows, Wo
 rkshop Reg Pass\n\nConsidering the Development Workflow to Achieve Reprodu
 cibility with Variation\n\nMercier, Faure, Richard\n\nThe ability to repro
 duce an experiment is fundamental in computer science.  Existing approache
 s focus on repeatability, but this is only the first step to reproducibili
 ty: continuing a scientific work from a previous experiment requires being
  able to modify it. This ability is called reproducibility with variation.
 \n\nIn this contribution, we show that capturing the environment of execut
 ion is necessary but not sufficient; we also need the environment of devel
 opment.  The variation also implies that those environments are subject to
  evolution, so the whole software development lifecycle needs to be consid
 ered.  To take into account these evolutions, software environments need t
 o be clearly defined, reconstructible with variation, and easy to share.  
 We propose to leverage functional package managers to achieve this goal.
URL:https://sc18.supercomputing.org/presentation/?id=ws_rescue102&sess=ses
 s167
END:VEVENT
END:VCALENDAR

