BEGIN:VCALENDAR
VERSION:2.0
PRODID:Linklings LLC
BEGIN:VTIMEZONE
TZID:America/Chicago
X-LIC-LOCATION:America/Chicago
BEGIN:DAYLIGHT
TZOFFSETFROM:-0600
TZOFFSETTO:-0500
TZNAME:CDT
DTSTART:19700308T020000
RRULE:FREQ=YEARLY;BYMONTH=3;BYDAY=2SU
END:DAYLIGHT
BEGIN:STANDARD
TZOFFSETFROM:-0500
TZOFFSETTO:-0600
TZNAME:CST
DTSTART:19701101T020000
RRULE:FREQ=YEARLY;BYMONTH=11;BYDAY=1SU
END:STANDARD
END:VTIMEZONE
BEGIN:VEVENT
DTSTAMP:20181221T160725Z
LOCATION:D171
DTSTART;TZID=America/Chicago:20181111T110000
DTEND;TZID=America/Chicago:20181111T111500
UID:submissions.supercomputing.org_SC18_sess167_ws_rescue105@linklings.com
SUMMARY:Spotting Black Swans With Ease: The Case for a Practical Reproduci
 bility Platform
DESCRIPTION:Workshop\nReproducibility, Software Engineering, Workflows, Wo
 rkshop Reg Pass\n\nSpotting Black Swans With Ease: The Case for a Practica
 l Reproducibility Platform\n\nJimenez, Maltzahn\n\nAdvances in agile softw
 are delivery methodologies and tools (commonly referred to as _DevOps_) ha
 ve not yet materialized in academic scenarios such as university, industry
  and government laboratories. In this position paper, we make the case for
  _Black Swan_, a platform for the agile implementation, maintenance, and c
 uration of experimentation pipelines by embracing a DevOps approach.
URL:https://sc18.supercomputing.org/presentation/?id=ws_rescue105&sess=ses
 s167
END:VEVENT
END:VCALENDAR

