BEGIN:VCALENDAR
VERSION:2.0
PRODID:Linklings LLC
BEGIN:VTIMEZONE
TZID:America/Chicago
X-LIC-LOCATION:America/Chicago
BEGIN:DAYLIGHT
TZOFFSETFROM:-0600
TZOFFSETTO:-0500
TZNAME:CDT
DTSTART:19700308T020000
RRULE:FREQ=YEARLY;BYMONTH=3;BYDAY=2SU
END:DAYLIGHT
BEGIN:STANDARD
TZOFFSETFROM:-0500
TZOFFSETTO:-0600
TZNAME:CST
DTSTART:19701101T020000
RRULE:FREQ=YEARLY;BYMONTH=11;BYDAY=1SU
END:STANDARD
END:VTIMEZONE
BEGIN:VEVENT
DTSTAMP:20181221T160725Z
LOCATION:D171
DTSTART;TZID=America/Chicago:20181111T111500
DTEND;TZID=America/Chicago:20181111T113000
UID:submissions.supercomputing.org_SC18_sess167_ws_rescue107@linklings.com
SUMMARY:Supporting Thorough Artifact Evaluation with Occam
DESCRIPTION:Workshop\nReproducibility, Software Engineering, Workflows, Wo
 rkshop Reg Pass\n\nSupporting Thorough Artifact Evaluation with Occam\n\nO
 liveira, Wilkinson, Mossé, Childers\n\nEfforts such as Artifact Evaluation
  (AE) have been growing, gradually making software evaluation an integral 
 part of scientific publication.  In this paper, we describe how Occam can 
 help to mitigate some of the challenges faced by both authors and reviewer
 s. For authors, Occam provides the means to package their artifacts with e
 nough detail to be used within experiments that can be easily repeated. Fo
 r the reviewers, Occam provides the means to thoroughly evaluate artifacts
  by: allowing them to repeat the author's experiments; providing the abili
 ty to modify inputs, parameters, and software to run different experiments
 .
URL:https://sc18.supercomputing.org/presentation/?id=ws_rescue107&sess=ses
 s167
END:VEVENT
END:VCALENDAR

