BEGIN:VCALENDAR
VERSION:2.0
PRODID:Linklings LLC
BEGIN:VTIMEZONE
TZID:America/Chicago
X-LIC-LOCATION:America/Chicago
BEGIN:DAYLIGHT
TZOFFSETFROM:-0600
TZOFFSETTO:-0500
TZNAME:CDT
DTSTART:19700308T020000
RRULE:FREQ=YEARLY;BYMONTH=3;BYDAY=2SU
END:DAYLIGHT
BEGIN:STANDARD
TZOFFSETFROM:-0500
TZOFFSETTO:-0600
TZNAME:CST
DTSTART:19701101T020000
RRULE:FREQ=YEARLY;BYMONTH=11;BYDAY=1SU
END:STANDARD
END:VTIMEZONE
BEGIN:VEVENT
DTSTAMP:20181221T160728Z
LOCATION:D170
DTSTART;TZID=America/Chicago:20181112T140000
DTEND;TZID=America/Chicago:20181112T144000
UID:submissions.supercomputing.org_SC18_sess169_pec409@linklings.com
SUMMARY:Industry Panel:  Data-Center Automation, Analytics, and Control fr
 om an Industry Perspective
DESCRIPTION:Workshop\nHPC Center Planning and Operations, Heterogeneous Sy
 stems, Scientific Computing, State of the Practice, Workshop Reg Pass, Dat
 acenter\n\nIndustry Panel:  Data-Center Automation, Analytics, and Control
  from an Industry Perspective\n\nHass, Hughes, El Haj Mahmoud, Autor\n\nDa
 ta center automation, analytics, and control have a long history in indust
 ry with a wide variety of approaches having been pursued. Recently, effort
 s have emerged to unify approaches to these topics with standards-based ef
 forts. This panel will examine the challenges, history, and present status
  of software, protocols, and API development including reasons that the Re
 dfish standard and related protocol efforts have emerged to play a strong 
 role in creating the basis for common approaches to these challenges. The 
 participants in this panel are well versed in these topics and will bring 
 their collective expertise together to present each company's perspective 
 on the issues.
URL:https://sc18.supercomputing.org/presentation/?id=pec409&sess=sess169
END:VEVENT
END:VCALENDAR

