BEGIN:VCALENDAR
VERSION:2.0
PRODID:Linklings LLC
BEGIN:VTIMEZONE
TZID:America/Chicago
X-LIC-LOCATION:America/Chicago
BEGIN:DAYLIGHT
TZOFFSETFROM:-0600
TZOFFSETTO:-0500
TZNAME:CDT
DTSTART:19700308T020000
RRULE:FREQ=YEARLY;BYMONTH=3;BYDAY=2SU
END:DAYLIGHT
BEGIN:STANDARD
TZOFFSETFROM:-0500
TZOFFSETTO:-0600
TZNAME:CST
DTSTART:19701101T020000
RRULE:FREQ=YEARLY;BYMONTH=11;BYDAY=1SU
END:STANDARD
END:VTIMEZONE
BEGIN:VEVENT
DTSTAMP:20181221T160727Z
LOCATION:D170
DTSTART;TZID=America/Chicago:20181112T094500
DTEND;TZID=America/Chicago:20181112T100500
UID:submissions.supercomputing.org_SC18_sess169_ws_daac110@linklings.com
SUMMARY:TACC's Cloud Deployer: Automating the Management of Distributed So
 ftware Systems
DESCRIPTION:Workshop\nHPC Center Planning and Operations, Heterogeneous Sy
 stems, Scientific Computing, State of the Practice, Workshop Reg Pass, Dat
 acenter\n\nTACC's Cloud Deployer: Automating the Management of Distributed
  Software Systems\n\nStubbs, Terry, Poindexter, Looney\n\nThe Cloud and In
 teractive Computing (CIC) Group at the Texas Advanced Computing Center dev
 elops, deploys and administers a growing catalog of cloud-based, distribut
 ed software systems for national-scale cyberinfrastructure projects. Addit
 ionally, these systems are being deployed off-site at prominent partner in
 stitutions such as the University of Hawai'i Manoa and the Centers for Dis
 ease Control (CDC). To automate operations, both internally and at partner
  sites, the CIC group has developed the TACC Cloud Deployer, a command lin
 e tool and software system combining Docker, Ansible and custom Python cod
 e. Initially released in March of 2016, CIC recently completed design and 
 initial development for Deployer “V2” based on a number of lessons learned
  over the prior two years. In this paper, we describe the evolution of TAC
 C’s Cloud Deployer, including the architecture and major design decisions 
 that went into its most recent incarnation.
URL:https://sc18.supercomputing.org/presentation/?id=ws_daac110&sess=sess1
 69
END:VEVENT
END:VCALENDAR

