BEGIN:VCALENDAR
VERSION:2.0
PRODID:Linklings LLC
BEGIN:VTIMEZONE
TZID:America/Chicago
X-LIC-LOCATION:America/Chicago
BEGIN:DAYLIGHT
TZOFFSETFROM:-0600
TZOFFSETTO:-0500
TZNAME:CDT
DTSTART:19700308T020000
RRULE:FREQ=YEARLY;BYMONTH=3;BYDAY=2SU
END:DAYLIGHT
BEGIN:STANDARD
TZOFFSETFROM:-0500
TZOFFSETTO:-0600
TZNAME:CST
DTSTART:19701101T020000
RRULE:FREQ=YEARLY;BYMONTH=11;BYDAY=1SU
END:STANDARD
END:VTIMEZONE
BEGIN:VEVENT
DTSTAMP:20181221T160731Z
LOCATION:D175
DTSTART;TZID=America/Chicago:20181116T103000
DTEND;TZID=America/Chicago:20181116T105000
UID:submissions.supercomputing.org_SC18_sess171_pec139@linklings.com
SUMMARY:Population Genetics and Computation in the Area of Precision Medic
 ine
DESCRIPTION:Workshop\nData Analytics, Scientific Computing, Workshop Reg P
 ass\n\nPopulation Genetics and Computation in the Area of Precision Medici
 ne\n\nKenny
URL:https://sc18.supercomputing.org/presentation/?id=pec139&sess=sess171
END:VEVENT
END:VCALENDAR

