BEGIN:VCALENDAR
VERSION:2.0
PRODID:Linklings LLC
BEGIN:VTIMEZONE
TZID:America/Chicago
X-LIC-LOCATION:America/Chicago
BEGIN:DAYLIGHT
TZOFFSETFROM:-0600
TZOFFSETTO:-0500
TZNAME:CDT
DTSTART:19700308T020000
RRULE:FREQ=YEARLY;BYMONTH=3;BYDAY=2SU
END:DAYLIGHT
BEGIN:STANDARD
TZOFFSETFROM:-0500
TZOFFSETTO:-0600
TZNAME:CST
DTSTART:19701101T020000
RRULE:FREQ=YEARLY;BYMONTH=11;BYDAY=1SU
END:STANDARD
END:VTIMEZONE
BEGIN:VEVENT
DTSTAMP:20181221T160728Z
LOCATION:D166
DTSTART;TZID=America/Chicago:20181112T153000
DTEND;TZID=America/Chicago:20181112T154500
UID:submissions.supercomputing.org_SC18_sess173_ws_espm104@linklings.com
SUMMARY:Portable and Reusable Deep Learning Infrastructure with Containers
  to Accelerate Cancer Studies
DESCRIPTION:Workshop\nAccelerators, Exascale, Parallel Programming Languag
 es, Libraries, and Models, Workshop Reg Pass\n\nPortable and Reusable Deep
  Learning Infrastructure with Containers to Accelerate Cancer Studies\n\nZ
 aki\n\nAdvanced programming models, domain specific languages, and scripti
 ng toolkits have the potential to greatly accelerate the adoption of high 
 performance computing.  These complex software systems, however, are often
  difficult to install and maintain, especially on exotic high-end systems.
   We consider deep learning workflows used on petascale systems and redepl
 oyment on research clusters using containers.  Containers are used to depl
 oy the MPI-based infrastructure, but challenges in efficiency, usability, 
 and complexity must be overcome.  In this work, we address these challenge
 s through enhancements to a unified workflow system that manages interacti
 on with the container abstraction, the cluster scheduler, and the programm
 ing tools.  We also report results from running the application on our sys
 tem, harnessing 298~TFLOPS (single precision).
URL:https://sc18.supercomputing.org/presentation/?id=ws_espm104&sess=sess1
 73
END:VEVENT
END:VCALENDAR

