BEGIN:VCALENDAR
VERSION:2.0
PRODID:Linklings LLC
BEGIN:VTIMEZONE
TZID:America/Chicago
X-LIC-LOCATION:America/Chicago
BEGIN:DAYLIGHT
TZOFFSETFROM:-0600
TZOFFSETTO:-0500
TZNAME:CDT
DTSTART:19700308T020000
RRULE:FREQ=YEARLY;BYMONTH=3;BYDAY=2SU
END:DAYLIGHT
BEGIN:STANDARD
TZOFFSETFROM:-0500
TZOFFSETTO:-0600
TZNAME:CST
DTSTART:19701101T020000
RRULE:FREQ=YEARLY;BYMONTH=11;BYDAY=1SU
END:STANDARD
END:VTIMEZONE
BEGIN:VEVENT
DTSTAMP:20181221T160727Z
LOCATION:D173
DTSTART;TZID=America/Chicago:20181112T090000
DTEND;TZID=America/Chicago:20181112T090100
UID:submissions.supercomputing.org_SC18_sess175_wksp145@linklings.com
SUMMARY:Introduction - 4th Workshop for Open Source Supercomputing (OpenSu
 Co)
DESCRIPTION:Workshop\nArchitectures, Collaborative Environments, Parallel 
 Programming Languages, Libraries, and Models, Simulation, Workflows, Works
 hop Reg Pass\n\nIntroduction - 4th Workshop for Open Source Supercomputing
  (OpenSuCo)\n\nFatollahi-Fard, Donofrio, Leidel, Butko, Karlsson\n\nAs we 
 approach the end of lithographic/Dennard scaling, the HPC community needs 
 a way to continue performance scaling. One way of providing that scaling i
 s an increase in the number and diversity of specialized architectures tai
 lored for specific applications. To accelerate the architecture specificat
 ion and verification of these new architectures, more rapid prototyping me
 thods are needed. At the same time, these new architectures need software 
 stacks and programming models to be able to actually use these new designs
 .\n\nIn concert with this increase in architecture heterogeneity, there ha
 s been a consistent march toward development of open source based hardware
  and software solutions for each of these components to be used in lieu of
  existing closed source solutions.\n\nWe present the proposed third instal
 lment of OpenSuCo: Workshop for Open Source Supercomputing. We aim to cont
 inue the previous two workshops' focus on exploring and collaborating on b
 uilding HPC systems using open-source hardware and system software IP. The
  goal is to engage the HPC community and explore open source solutions acr
 oss the system stack – from silicon to applications.
URL:https://sc18.supercomputing.org/presentation/?id=wksp145&sess=sess175
END:VEVENT
END:VCALENDAR

