BEGIN:VCALENDAR
VERSION:2.0
PRODID:Linklings LLC
BEGIN:VTIMEZONE
TZID:America/Chicago
X-LIC-LOCATION:America/Chicago
BEGIN:DAYLIGHT
TZOFFSETFROM:-0600
TZOFFSETTO:-0500
TZNAME:CDT
DTSTART:19700308T020000
RRULE:FREQ=YEARLY;BYMONTH=3;BYDAY=2SU
END:DAYLIGHT
BEGIN:STANDARD
TZOFFSETFROM:-0500
TZOFFSETTO:-0600
TZNAME:CST
DTSTART:19701101T020000
RRULE:FREQ=YEARLY;BYMONTH=11;BYDAY=1SU
END:STANDARD
END:VTIMEZONE
BEGIN:VEVENT
DTSTAMP:20181221T160910Z
LOCATION:C140/142
DTSTART;TZID=America/Chicago:20181115T133000
DTEND;TZID=America/Chicago:20181115T150000
UID:submissions.supercomputing.org_SC18_sess190@linklings.com
SUMMARY:Deep Learning
DESCRIPTION:Paper\nApplications, Cosmology, Data Analytics, Deep Learning,
  Machine Learning, Programming Systems, Storage, Visualization, Tech Progr
 am Reg Pass\n\nCosmoFlow: Using Deep Learning to Learn the Universe at Sca
 le\n\nMathuriya, Bard, Mendygral, Meadows, Arnemann...\n\nDeep learning is
  a promising tool to determine the physical model that describes our unive
 rse.   To handle the considerable computational cost of this problem, we p
 resent CosmoFlow: a highly scalable deep learning application built on top
  of the TensorFlow framework.\n\nCosmoFlow uses efficient implem...\n\n---
 ------------------\nAnatomy of High-Performance Deep Learning Convolutions
  on SIMD Architectures\n\nGeorganas, Avancha, Banerjee, Kalamkar, Henry...
 \n\nConvolution layers are prevalent in many classes of deep neural networ
 ks, including Convolutional Neural Networks (CNNs) which provide state-of-
 the-art results for tasks like image recognition, neural machine translati
 on, and speech recognition. The computationally expensive nature of a conv
 olution ...\n\n---------------------\nExploring Flexible Communications fo
 r Streamlining DNN Ensemble Training Pipelines\n\nPittman, Guan, Shen, Lim
 , Patton\n\nParallel training of a Deep Neural Network (DNN) ensemble on a
  cluster of nodes is a common practice to train multiple models in order t
 o construct a model with a higher prediction accuracy. Existing ensemble t
 raining pipelines can perform a great deal of redundant operations, result
 ing in unnecessa...\n
END:VEVENT
END:VCALENDAR

