BEGIN:VCALENDAR
VERSION:2.0
PRODID:Linklings LLC
BEGIN:VTIMEZONE
TZID:America/Chicago
X-LIC-LOCATION:America/Chicago
BEGIN:DAYLIGHT
TZOFFSETFROM:-0600
TZOFFSETTO:-0500
TZNAME:CDT
DTSTART:19700308T020000
RRULE:FREQ=YEARLY;BYMONTH=3;BYDAY=2SU
END:DAYLIGHT
BEGIN:STANDARD
TZOFFSETFROM:-0500
TZOFFSETTO:-0600
TZNAME:CST
DTSTART:19701101T020000
RRULE:FREQ=YEARLY;BYMONTH=11;BYDAY=1SU
END:STANDARD
END:VTIMEZONE
BEGIN:VEVENT
DTSTAMP:20181221T160726Z
LOCATION:D167/174
DTSTART;TZID=America/Chicago:20181111T140000
DTEND;TZID=America/Chicago:20181111T143000
UID:submissions.supercomputing.org_SC18_sess221_wksp115@linklings.com
SUMMARY:Introduction - Machine Learning in HPC Environments
DESCRIPTION:Workshop\nApplications, Deep Learning, Machine Learning, Works
 hop Reg Pass\n\nIntroduction - Machine Learning in HPC Environments\n\nYou
 ng, Patton, Keuper, Houston\n\nThe intent of this workshop is to bring tog
 ether researchers, practitioners, and scientific communities to discuss me
 thods that utilize extreme scale systems for machine learning. This worksh
 op will focus on the greatest challenges in utilizing HPC for machine lear
 ning and methods for exploiting data parallelism, model parallelism, ensem
 bles, and parameter search. We invite researchers and practitioners to par
 ticipate in this workshop to discuss the challenges in using HPC for machi
 ne learning and to share the wide range of applications that would benefit
  from HPC powered machine learning.
URL:https://sc18.supercomputing.org/presentation/?id=wksp115&sess=sess221
END:VEVENT
END:VCALENDAR

