BEGIN:VCALENDAR
VERSION:2.0
PRODID:Linklings LLC
BEGIN:VTIMEZONE
TZID:America/Chicago
X-LIC-LOCATION:America/Chicago
BEGIN:DAYLIGHT
TZOFFSETFROM:-0600
TZOFFSETTO:-0500
TZNAME:CDT
DTSTART:19700308T020000
RRULE:FREQ=YEARLY;BYMONTH=3;BYDAY=2SU
END:DAYLIGHT
BEGIN:STANDARD
TZOFFSETFROM:-0500
TZOFFSETTO:-0600
TZNAME:CST
DTSTART:19701101T020000
RRULE:FREQ=YEARLY;BYMONTH=11;BYDAY=1SU
END:STANDARD
END:VTIMEZONE
BEGIN:VEVENT
DTSTAMP:20181221T160730Z
LOCATION:Exhibit Hall B
DTSTART;TZID=America/Chicago:20181114T111500
DTEND;TZID=America/Chicago:20181114T120000
UID:submissions.supercomputing.org_SC18_sess227_inv107@linklings.com
SUMMARY:China’s Effort on Exascale Computing: Current Status and Perspecti
 ves
DESCRIPTION:Invited Talk\nTech Program Reg Pass, Exhibits Reg Pass\n\nChin
 a’s Effort on Exascale Computing: Current Status and Perspectives\n\nQian\
 n\nAfter a brief introduction to the key project on HPC under the national
  key R&D program, this talk focuses on the progress made by the key projec
 t, including the exascale prototype system development, the HPC applicatio
 ns and enabling platforms and technologies, and the national HPC environme
 nt together with the services provided. Major issues on exascale system de
 velopment and the HPC application ecosystem will be discussed. The perspec
 tives of HPC in China, especially connection of HPC with BD and AI and the
  possible converged development of HPC, BD and AI are discussed toward the
  end of the talk.
URL:https://sc18.supercomputing.org/presentation/?id=inv107&sess=sess227
END:VEVENT
END:VCALENDAR

