BEGIN:VCALENDAR
VERSION:2.0
PRODID:Linklings LLC
BEGIN:VTIMEZONE
TZID:America/Chicago
X-LIC-LOCATION:America/Chicago
BEGIN:DAYLIGHT
TZOFFSETFROM:-0600
TZOFFSETTO:-0500
TZNAME:CDT
DTSTART:19700308T020000
RRULE:FREQ=YEARLY;BYMONTH=3;BYDAY=2SU
END:DAYLIGHT
BEGIN:STANDARD
TZOFFSETFROM:-0500
TZOFFSETTO:-0600
TZNAME:CST
DTSTART:19701101T020000
RRULE:FREQ=YEARLY;BYMONTH=11;BYDAY=1SU
END:STANDARD
END:VTIMEZONE
BEGIN:VEVENT
DTSTAMP:20181221T160730Z
LOCATION:Exhibit Hall B
DTSTART;TZID=America/Chicago:20181114T103000
DTEND;TZID=America/Chicago:20181114T111500
UID:submissions.supercomputing.org_SC18_sess227_inv109@linklings.com
SUMMARY:Delivering on the Exascale Computing Project Mission for the US De
 partment of Energy
DESCRIPTION:Invited Talk\nTech Program Reg Pass, Exhibits Reg Pass\n\nDeli
 vering on the Exascale Computing Project Mission for the US Department of 
 Energy\n\nKothe\n\nThe vision of the US Department of Energy (DOE) Exascal
 e Computing Project (ECP), initiated in 2016 as a formal DOE project execu
 ting through 2022, is to accelerate innovation with exascale simulation an
 d data science solutions that enhance U.S. economic competitiveness, stren
 gthen our national security, and change our quality of life. ECP’s mission
  is to deliver exascale-ready applications and solutions that address curr
 ently intractable problems of strategic importance and national interest; 
 create and deploy an expanded and vertically integrated software stack on 
 DOE HPC exascale and pre-exascale systems, thereby defining the enduring U
 S exascale ecosystem; and leverage U.S. HPC vendor research activities and
  products into DOE HPC exascale systems.  The project is a joint effort of
  two DOE programs: the Office of Science Advanced Scientific Computing Res
 earch Program and the National Nuclear Security Administration Advanced Si
 mulation and Computing Program. ECP’s RD&D activities, which encompass the
  development of applications, software technologies, and hardware technolo
 gies and architectures, is carried out by over 100 small teams of scientis
 ts and engineers from the DOE national laboratories, universities, and ind
 ustry.
URL:https://sc18.supercomputing.org/presentation/?id=inv109&sess=sess227
END:VEVENT
END:VCALENDAR

