BEGIN:VCALENDAR
VERSION:2.0
PRODID:Linklings LLC
BEGIN:VTIMEZONE
TZID:America/Chicago
X-LIC-LOCATION:America/Chicago
BEGIN:DAYLIGHT
TZOFFSETFROM:-0600
TZOFFSETTO:-0500
TZNAME:CDT
DTSTART:19700308T020000
RRULE:FREQ=YEARLY;BYMONTH=3;BYDAY=2SU
END:DAYLIGHT
BEGIN:STANDARD
TZOFFSETFROM:-0500
TZOFFSETTO:-0600
TZNAME:CST
DTSTART:19701101T020000
RRULE:FREQ=YEARLY;BYMONTH=11;BYDAY=1SU
END:STANDARD
END:VTIMEZONE
BEGIN:VEVENT
DTSTAMP:20181221T160909Z
LOCATION:Exhibit Hall B
DTSTART;TZID=America/Chicago:20181114T103000
DTEND;TZID=America/Chicago:20181114T120000
UID:submissions.supercomputing.org_SC18_sess227@linklings.com
SUMMARY:Invited Talk Session 3
DESCRIPTION:Invited Talk\nTech Program Reg Pass, Exhibits Reg Pass\n\nChin
 a’s Effort on Exascale Computing: Current Status and Perspectives\n\nQian\
 n\nAfter a brief introduction to the key project on HPC under the national
  key R&D program, this talk focuses on the progress made by the key projec
 t, including the exascale prototype system development, the HPC applicatio
 ns and enabling platforms and technologies, and the national HPC environme
 nt toge...\n\n---------------------\nDelivering on the Exascale Computing 
 Project Mission for the US Department of Energy\n\nKothe\n\nThe vision of 
 the US Department of Energy (DOE) Exascale Computing Project (ECP), initia
 ted in 2016 as a formal DOE project executing through 2022, is to accelera
 te innovation with exascale simulation and data science solutions that enh
 ance U.S. economic competitiveness, strengthen our national secu...\n
END:VEVENT
END:VCALENDAR

