BEGIN:VCALENDAR
VERSION:2.0
PRODID:Linklings LLC
BEGIN:VTIMEZONE
TZID:America/Chicago
X-LIC-LOCATION:America/Chicago
BEGIN:DAYLIGHT
TZOFFSETFROM:-0600
TZOFFSETTO:-0500
TZNAME:CDT
DTSTART:19700308T020000
RRULE:FREQ=YEARLY;BYMONTH=3;BYDAY=2SU
END:DAYLIGHT
BEGIN:STANDARD
TZOFFSETFROM:-0500
TZOFFSETTO:-0600
TZNAME:CST
DTSTART:19701101T020000
RRULE:FREQ=YEARLY;BYMONTH=11;BYDAY=1SU
END:STANDARD
END:VTIMEZONE
BEGIN:VEVENT
DTSTAMP:20181221T160903Z
LOCATION:C140
DTSTART;TZID=America/Chicago:20181111T083000
DTEND;TZID=America/Chicago:20181111T120000
UID:submissions.supercomputing.org_SC18_sess237_tut116@linklings.com
SUMMARY:High Performance Computing (HPC) Data Center Planning and TCO: A C
 ase Study and Roadmap
DESCRIPTION:Tutorial\nHPC Center Planning and Operations, Tutorial Reg Pas
 s\n\nHigh Performance Computing (HPC) Data Center Planning and TCO: A Case
  Study and Roadmap\n\nBailey, Thomas, Lambiaso\n\nLeveraging the “Data Cen
 ter Planning and Design for HPC Folks” Tutorials presented at both SC16 an
 d SC17, this track not only provides best practices and lessons learned gl
 eaned from multiple HPC data center infrastructure capacity planning, tota
 l cost of ownership (TCO) analysis and business case justification initiat
 ives over the last 15 years but, significantly, provides a deeper-dive cas
 e study and roadmap around Lawrence Livermore National Laboratory’s (LLNL)
  methodology to accommodate future HPC systems. The presenters understand 
 that the HPC data center mechanical, electrical, and structural infrastruc
 ture can be a significant enabler or roadblock to the timely deployment an
 d optimized performance of HPC systems. We are encouraged to see more TCO/
 business case dialogue at SC17 and in the HPC community than in years past
  and will share firsthand experience about how participants can develop/en
 hance their organization’s HPC facility infrastructure to match their depl
 oyment methodology. Topics covered include mission statement and business 
 case development, key stakeholder engagement, existing conditions survey, 
 future-state requirements development, gap analysis, alternative options a
 nalysis, budgeting, reporting, and approvals. This tutorial will improve b
 oth your technical knowledge and financial confidence to navigate this pro
 cess and drive successful outcomes.
URL:https://sc18.supercomputing.org/presentation/?id=tut116&sess=sess237
END:VEVENT
END:VCALENDAR

