BEGIN:VCALENDAR
VERSION:2.0
PRODID:Linklings LLC
BEGIN:VTIMEZONE
TZID:America/Chicago
X-LIC-LOCATION:America/Chicago
BEGIN:DAYLIGHT
TZOFFSETFROM:-0600
TZOFFSETTO:-0500
TZNAME:CDT
DTSTART:19700308T020000
RRULE:FREQ=YEARLY;BYMONTH=3;BYDAY=2SU
END:DAYLIGHT
BEGIN:STANDARD
TZOFFSETFROM:-0500
TZOFFSETTO:-0600
TZNAME:CST
DTSTART:19701101T020000
RRULE:FREQ=YEARLY;BYMONTH=11;BYDAY=1SU
END:STANDARD
END:VTIMEZONE
BEGIN:VEVENT
DTSTAMP:20181221T160731Z
LOCATION:D171
DTSTART;TZID=America/Chicago:20181115T110000
DTEND;TZID=America/Chicago:20181115T113000
UID:submissions.supercomputing.org_SC18_sess272_exforum114@linklings.com
SUMMARY:Next Generation Vector Supercomputer
DESCRIPTION:Exhibitor Forum\nArchitectures\n\nNext Generation Vector Super
 computer\n\nIkuta\n\nThe NEC SX-Aurora TSUBASA is the newest in the line o
 f NEC SX Vector Processors with the world's highest memory bandwidth. The 
 Processor that is implemented in a PCI-e formfactor can be configured in m
 any flexible configurations together with a standard x86 cluster. No speci
 al framework is needed to build the applications, but standard programming
  paradigms in C/C++ and Fortran, for which the NEC compiler will automatic
 ally carry out vectorization and parallelization.\n\nThe target is a highe
 r sustained performance with minimum effort by utilizing the Vector Engine
  hardware.
URL:https://sc18.supercomputing.org/presentation/?id=exforum114&sess=sess2
 72
END:VEVENT
END:VCALENDAR

