BEGIN:VCALENDAR
VERSION:2.0
PRODID:Linklings LLC
BEGIN:VTIMEZONE
TZID:America/Chicago
X-LIC-LOCATION:America/Chicago
BEGIN:DAYLIGHT
TZOFFSETFROM:-0600
TZOFFSETTO:-0500
TZNAME:CDT
DTSTART:19700308T020000
RRULE:FREQ=YEARLY;BYMONTH=3;BYDAY=2SU
END:DAYLIGHT
BEGIN:STANDARD
TZOFFSETFROM:-0500
TZOFFSETTO:-0600
TZNAME:CST
DTSTART:19701101T020000
RRULE:FREQ=YEARLY;BYMONTH=11;BYDAY=1SU
END:STANDARD
END:VTIMEZONE
BEGIN:VEVENT
DTSTAMP:20181221T160731Z
LOCATION:D171
DTSTART;TZID=America/Chicago:20181115T103000
DTEND;TZID=America/Chicago:20181115T110000
UID:submissions.supercomputing.org_SC18_sess272_exforum124@linklings.com
SUMMARY:Post-K Supercomputer with Fujitsu's Original CPU, Powered by Arm I
 SA
DESCRIPTION:Exhibitor Forum\nArchitectures, Post-K computer\n\nPost-K Supe
 rcomputer with Fujitsu's Original CPU, Powered by Arm ISA\n\nShimizu\n\nFu
 jitsu has provided supercomputers for over forty years; recently the K com
 puter in 2011, winning 1st place twice in the TOP500, the Fujitsu-original
  PRIMEHPC FX10 in 2012 and the PRIMEHPC FX100 in 2015. Fujitsu also delive
 rs x86 clusters for wide application areas and customer requirements.\n\nR
 IKEN and Fujitsu are now developing the “post-K” supercomputer as Japan’s 
 new national supercomputer project. The post-K inherits the K computer’s a
 rchitecture and targets up to 100 times higher application performance wit
 h superior power efficiency. The post-K employs the newly developed Fujits
 u original CPU which recently announced as FUJITSU A64FX featuring the Arm
 v8-A and SVE ISA and widening application opportunities. The post-K contri
 butes to the Arm ecosystem for HPC applications as well as science and soc
 iety.\n\nAt SC18, Fujitsu will provide updates on post-K development and s
 ome performance evaluation results.
URL:https://sc18.supercomputing.org/presentation/?id=exforum124&sess=sess2
 72
END:VEVENT
END:VCALENDAR

