BEGIN:VCALENDAR
VERSION:2.0
PRODID:Linklings LLC
BEGIN:VTIMEZONE
TZID:America/Chicago
X-LIC-LOCATION:America/Chicago
BEGIN:DAYLIGHT
TZOFFSETFROM:-0600
TZOFFSETTO:-0500
TZNAME:CDT
DTSTART:19700308T020000
RRULE:FREQ=YEARLY;BYMONTH=3;BYDAY=2SU
END:DAYLIGHT
BEGIN:STANDARD
TZOFFSETFROM:-0500
TZOFFSETTO:-0600
TZNAME:CST
DTSTART:19701101T020000
RRULE:FREQ=YEARLY;BYMONTH=11;BYDAY=1SU
END:STANDARD
END:VTIMEZONE
BEGIN:VEVENT
DTSTAMP:20181221T160910Z
LOCATION:C147/148/154
DTSTART;TZID=America/Chicago:20181114T103000
DTEND;TZID=America/Chicago:20181114T120000
UID:submissions.supercomputing.org_SC18_sess291_pan122@linklings.com
SUMMARY:SC: The Conference
DESCRIPTION:Panel, SC 30th Anniversary\nTech Program Reg Pass\n\nSC: The C
 onference\n\nClayton, Martin, Giles, Verastegui, Gropp...\n\nSC: The Confe
 rence\n\nStarted as the Supercomputing Conference in 1988, The Conference 
 on High Performance Computing, Networking, Storage and Analysis (SC) will 
 be examined by a panel of Past and Future Conference Chairs with audience 
 interaction. The Chairs will discuss SC's impact and role in advancing HPC
 , how the field has evolved in 30 years, and projected future impacts. Top
 ics include:\n\n—What impact has SC had on industry? Science? Society? Wha
 t is the future of SC? What should it be?\n\n—Has SC broadened participati
 on in the field by students, underrepresented groups, and international co
 llaborations? How can it do more?\n\n—Has SC played a part or demonstrated
  how the community addressed challenges such as network growth and use, in
 teroperability, high productivity software, benchmarking, and power consum
 ption?\n\n—What has been SC's  impact on the relationships among industry,
  academia, and government?\n\n—How can we ensure that the conference remai
 ns relevant?
URL:https://sc18.supercomputing.org/presentation/?id=pan122&sess=sess291
END:VEVENT
END:VCALENDAR

