BEGIN:VCALENDAR
VERSION:2.0
PRODID:Linklings LLC
BEGIN:VTIMEZONE
TZID:America/Chicago
X-LIC-LOCATION:America/Chicago
BEGIN:DAYLIGHT
TZOFFSETFROM:-0600
TZOFFSETTO:-0500
TZNAME:CDT
DTSTART:19700308T020000
RRULE:FREQ=YEARLY;BYMONTH=3;BYDAY=2SU
END:DAYLIGHT
BEGIN:STANDARD
TZOFFSETFROM:-0500
TZOFFSETTO:-0600
TZNAME:CST
DTSTART:19701101T020000
RRULE:FREQ=YEARLY;BYMONTH=11;BYDAY=1SU
END:STANDARD
END:VTIMEZONE
BEGIN:VEVENT
DTSTAMP:20181221T160910Z
LOCATION:C147/148/154
DTSTART;TZID=America/Chicago:20181114T153000
DTEND;TZID=America/Chicago:20181114T170000
UID:submissions.supercomputing.org_SC18_sess295_pan110@linklings.com
SUMMARY:Sustaining Research Software
DESCRIPTION:Panel\nTech Program Reg Pass\n\nSustaining Research Software\n
 \nKatz, Gesing, Aerts, Dubey, Pearah...\n\nMany science advances have been
  possible thanks to the use of research software, which has become essenti
 al to advancing virtually every Science, Technology, Engineering and Mathe
 matics (STEM) discipline (and many non-STEM disciplines as well). And whil
 e much of it is made available under open source licenses, work is needed 
 to develop, support, and sustain it, as underlying systems and software as
  well as user needs evolve. This panel will discuss challenges and solutio
 ns related to sustaining research software and will collect examples of su
 ccesses and failures from the audience that can and will be widely shared.
  This will enable advanced compute and data infrastructures to positively 
 impact future research software and future research.
URL:https://sc18.supercomputing.org/presentation/?id=pan110&sess=sess295
END:VEVENT
END:VCALENDAR

