BEGIN:VCALENDAR
VERSION:2.0
PRODID:Linklings LLC
BEGIN:VTIMEZONE
TZID:America/Chicago
X-LIC-LOCATION:America/Chicago
BEGIN:DAYLIGHT
TZOFFSETFROM:-0600
TZOFFSETTO:-0500
TZNAME:CDT
DTSTART:19700308T020000
RRULE:FREQ=YEARLY;BYMONTH=3;BYDAY=2SU
END:DAYLIGHT
BEGIN:STANDARD
TZOFFSETFROM:-0500
TZOFFSETTO:-0600
TZNAME:CST
DTSTART:19701101T020000
RRULE:FREQ=YEARLY;BYMONTH=11;BYDAY=1SU
END:STANDARD
END:VTIMEZONE
BEGIN:VEVENT
DTSTAMP:20181221T160907Z
LOCATION:C155/156
DTSTART;TZID=America/Chicago:20181113T153000
DTEND;TZID=America/Chicago:20181113T170000
UID:submissions.supercomputing.org_SC18_sess302_pan119@linklings.com
SUMMARY:How Can Lessons Learned in the Past Forty Years Guide Future HPC R
 esearch Strategies?
DESCRIPTION:Panel\nTech Program Reg Pass\n\nHow Can Lessons Learned in the
  Past Forty Years Guide Future HPC Research Strategies?\n\nMessina, Bland,
  Chen, Colella, Dongarra...\n\nThe HPC, computer science, and mathematics 
 communities face disruptive changes due to the end of Dennard scaling and 
 the emergence of quantum, neuromorphic, and other technologies.  Having we
 athered previous disruptions, are there insights into effective investment
  strategies and guidance in research investments in the coming decades? Dr
 awing on the experience of the Advanced Scientific Computing Research prog
 ram of the U.S. Department of Energy, as well as other agencies, the panel
 ists will address questions including:\n\nWhich programmatic techniques, i
 ncluding partnering with other agencies or industry, were most successful 
 and might translate to the future?\n\nWhat are examples of investment fail
 ures that might have been avoided?\n\nWhat lessons have been learned to he
 lp adapt to the end of Moore's Law and the likely shift in software archit
 ecture that will be needed? \n\nWhat has been the impact of supercomputing
  facilities and computer networks and will such facilities continue to be 
 relevant?
URL:https://sc18.supercomputing.org/presentation/?id=pan119&sess=sess302
END:VEVENT
END:VCALENDAR

