BEGIN:VCALENDAR
VERSION:2.0
PRODID:Linklings LLC
BEGIN:VTIMEZONE
TZID:America/Chicago
X-LIC-LOCATION:America/Chicago
BEGIN:DAYLIGHT
TZOFFSETFROM:-0600
TZOFFSETTO:-0500
TZNAME:CDT
DTSTART:19700308T020000
RRULE:FREQ=YEARLY;BYMONTH=3;BYDAY=2SU
END:DAYLIGHT
BEGIN:STANDARD
TZOFFSETFROM:-0500
TZOFFSETTO:-0600
TZNAME:CST
DTSTART:19701101T020000
RRULE:FREQ=YEARLY;BYMONTH=11;BYDAY=1SU
END:STANDARD
END:VTIMEZONE
BEGIN:VEVENT
DTSTAMP:20181221T160907Z
LOCATION:C147/148/154
DTSTART;TZID=America/Chicago:20181115T153000
DTEND;TZID=America/Chicago:20181115T170000
UID:submissions.supercomputing.org_SC18_sess304_pan117@linklings.com
SUMMARY:The Next Wave of HPC in the Datacenter
DESCRIPTION:Panel\nTech Program Reg Pass\n\nThe Next Wave of HPC in the Da
 tacenter\n\nPrickett Morgan, Stoner, Meyer, Panda, George\n\nWhat’s the dr
 iving force behind the HPC revolution? Using deep learning (DL), machine l
 earning (ML), and artificial intelligence (AI) to create actionable insigh
 ts from your data. This is where the intersection between CPU, GPU, and so
 ftware makes all the difference. The race is on to power today’s insight-d
 riven world in the most impactful ways possible. Join this discussion to l
 earn how organizations are using HPC to unlock the value of their data. Yo
 u’ll walk away with the key tenants for how to best deploy infrastructure 
 to meet today’s demanding AI workloads, insight into how emerging technolo
 gies can best support HPC and AI, and real-world examples of how top indus
 try players are already putting these best practices to work.
URL:https://sc18.supercomputing.org/presentation/?id=pan117&sess=sess304
END:VEVENT
END:VCALENDAR

