BEGIN:VCALENDAR
VERSION:2.0
PRODID:Linklings LLC
BEGIN:VTIMEZONE
TZID:America/Chicago
X-LIC-LOCATION:America/Chicago
BEGIN:DAYLIGHT
TZOFFSETFROM:-0600
TZOFFSETTO:-0500
TZNAME:CDT
DTSTART:19700308T020000
RRULE:FREQ=YEARLY;BYMONTH=3;BYDAY=2SU
END:DAYLIGHT
BEGIN:STANDARD
TZOFFSETFROM:-0500
TZOFFSETTO:-0600
TZNAME:CST
DTSTART:19701101T020000
RRULE:FREQ=YEARLY;BYMONTH=11;BYDAY=1SU
END:STANDARD
END:VTIMEZONE
BEGIN:VEVENT
DTSTAMP:20181221T160907Z
LOCATION:C155/156
DTSTART;TZID=America/Chicago:20181116T103000
DTEND;TZID=America/Chicago:20181116T120000
UID:submissions.supercomputing.org_SC18_sess306_pan105@linklings.com
SUMMARY:Convergence between HPC and Big Data: The Day After Tomorrow
DESCRIPTION:Panel\nWorkshop Reg Pass, Tutorial Reg Pass, Tech Program Reg 
 Pass, Exhibits Reg Pass, Exhibits - Exhibit Hall Only Reg Pass\n\nConverge
 nce between HPC and Big Data: The Day After Tomorrow\n\nHadri, Alam, Antyp
 as, Bader, Reed...\n\nThe relationship between HPC and Big-Data Analytics 
 (BDA) is a recurring theme in the community. There is no doubt that the co
 nvergence between the third and fourth paradigms is on the march. The mult
 iple combinations of various techniques from both ends, ranging from virtu
 alization, containerization, and cloud to help researchers in their simula
 tions, represent only an aspect of it.  As HPC and BDA become increasingly
  ubiquitous and intertwined, this synergism will deliver opportunities and
  challenges that neither disciplines can produce alone. \n\nJoin the exper
 t panelists, to learn from their experiences and discuss with them on:\n\n
  -- What are the challenges and the opportunities that the community will 
 face out of this synergistic relationship?\n\n-- Will users need to make 
 changes to their practices to use upcoming modern resources to solve their
  workflow more efficiently? \n\n-- How to develop sustainable competencie
 s around implementing and managing new technologies to support diverse wor
 kloads?
URL:https://sc18.supercomputing.org/presentation/?id=pan105&sess=sess306
END:VEVENT
END:VCALENDAR

