BEGIN:VCALENDAR
VERSION:2.0
PRODID:Linklings LLC
BEGIN:VTIMEZONE
TZID:America/Chicago
X-LIC-LOCATION:America/Chicago
BEGIN:DAYLIGHT
TZOFFSETFROM:-0600
TZOFFSETTO:-0500
TZNAME:CDT
DTSTART:19700308T020000
RRULE:FREQ=YEARLY;BYMONTH=3;BYDAY=2SU
END:DAYLIGHT
BEGIN:STANDARD
TZOFFSETFROM:-0500
TZOFFSETTO:-0600
TZNAME:CST
DTSTART:19701101T020000
RRULE:FREQ=YEARLY;BYMONTH=11;BYDAY=1SU
END:STANDARD
END:VTIMEZONE
BEGIN:VEVENT
DTSTAMP:20181221T160903Z
LOCATION:C2/3/4 Ballroom
DTSTART;TZID=America/Chicago:20181115T083000
DTEND;TZID=America/Chicago:20181115T170000
UID:submissions.supercomputing.org_SC18_sess324_post139@linklings.com
SUMMARY:Toward Smoothing Data Movement Between RAM and Storage
DESCRIPTION:Poster\nTech Program Reg Pass, Exhibits Reg Pass\n\nToward Smo
 othing Data Movement Between RAM and Storage\n\nAlturkestani, Tonellot, Et
 ienne, Ltaief\n\nWe propose to design and implement a software framework, 
 which provides a Multilayer Buffer System (MBS) to cache in/out datasets i
 nto CPU main memory from/to slower storage media, such as parallel file sy
 stems (e.g., Lustre), solid-state drive (e.g., Burst Buffer) or non-volati
 le RAM. Although MBS scope may be broad in terms of scientific application
 s, we focus on the RTM application as a proxy for I/O intensive workloads,
  since reading and writing are ubiquitous operations during the dumping ph
 ase of the source wavefield (forward propagation) as well as its retrieval
  phase (backward propagation) for the image condition calculations.
URL:https://sc18.supercomputing.org/presentation/?id=post139&sess=sess324
END:VEVENT
END:VCALENDAR

