BEGIN:VCALENDAR
VERSION:2.0
PRODID:Linklings LLC
BEGIN:VTIMEZONE
TZID:America/Chicago
X-LIC-LOCATION:America/Chicago
BEGIN:DAYLIGHT
TZOFFSETFROM:-0600
TZOFFSETTO:-0500
TZNAME:CDT
DTSTART:19700308T020000
RRULE:FREQ=YEARLY;BYMONTH=3;BYDAY=2SU
END:DAYLIGHT
BEGIN:STANDARD
TZOFFSETFROM:-0500
TZOFFSETTO:-0600
TZNAME:CST
DTSTART:19701101T020000
RRULE:FREQ=YEARLY;BYMONTH=11;BYDAY=1SU
END:STANDARD
END:VTIMEZONE
BEGIN:VEVENT
DTSTAMP:20181221T160903Z
LOCATION:C2/3/4 Ballroom
DTSTART;TZID=America/Chicago:20181115T083000
DTEND;TZID=America/Chicago:20181115T170000
UID:submissions.supercomputing.org_SC18_sess324_post167@linklings.com
SUMMARY:Enabling Data Analytics Workflows Using Node-Local Storage
DESCRIPTION:Poster\nTech Program Reg Pass, Exhibits Reg Pass\n\nEnabling D
 ata Analytics Workflows Using Node-Local Storage\n\nDo, Jiang, Gallagher, 
 Chu, Harrison...\n\nThe convergence of high-performance computing (HPC) an
 d Big Data is a necessity with the push toward extreme-scale computing. As
  HPC simulations become more complex, the analytics need to process larger
  amounts of data, which poses significant challenges for coupling HPC simu
 lations with Big Data analytics. This poster presents a novel node-local a
 pproach that uses a workflow management system (WMS) to enable the couplin
 g between the simulations and the analytics in scientific workflows by lev
 eraging node-local non-volatile random-access memory (NVRAM).
URL:https://sc18.supercomputing.org/presentation/?id=post167&sess=sess324
END:VEVENT
END:VCALENDAR

