BEGIN:VCALENDAR
VERSION:2.0
PRODID:Linklings LLC
BEGIN:VTIMEZONE
TZID:America/Chicago
X-LIC-LOCATION:America/Chicago
BEGIN:DAYLIGHT
TZOFFSETFROM:-0600
TZOFFSETTO:-0500
TZNAME:CDT
DTSTART:19700308T020000
RRULE:FREQ=YEARLY;BYMONTH=3;BYDAY=2SU
END:DAYLIGHT
BEGIN:STANDARD
TZOFFSETFROM:-0500
TZOFFSETTO:-0600
TZNAME:CST
DTSTART:19701101T020000
RRULE:FREQ=YEARLY;BYMONTH=11;BYDAY=1SU
END:STANDARD
END:VTIMEZONE
BEGIN:VEVENT
DTSTAMP:20181221T160903Z
LOCATION:C2/3/4 Ballroom
DTSTART;TZID=America/Chicago:20181115T083000
DTEND;TZID=America/Chicago:20181115T170000
UID:submissions.supercomputing.org_SC18_sess324_post190@linklings.com
SUMMARY:Workflow for Parallel Processing of Sequential Mesh Databases
DESCRIPTION:Poster\nTech Program Reg Pass, Exhibits Reg Pass\n\nWorkflow f
 or Parallel Processing of Sequential Mesh Databases\n\nMeca, Říha, Br
 zobohatý\n\nThis poster presents a workflow for parallel loading of sequen
 tially stored mesh databases. It can be used as a connection between tools
  for the creation of complex engineering models along with parallel solver
 s to allow broader usage of HPC by the engineering community. Scalability 
 tests show that the proposed algorithm is able to prepare a mesh with hund
 reds of millions of nodes/elements in several seconds.
URL:https://sc18.supercomputing.org/presentation/?id=post190&sess=sess324
END:VEVENT
END:VCALENDAR

