BEGIN:VCALENDAR
VERSION:2.0
PRODID:Linklings LLC
BEGIN:VTIMEZONE
TZID:America/Chicago
X-LIC-LOCATION:America/Chicago
BEGIN:DAYLIGHT
TZOFFSETFROM:-0600
TZOFFSETTO:-0500
TZNAME:CDT
DTSTART:19700308T020000
RRULE:FREQ=YEARLY;BYMONTH=3;BYDAY=2SU
END:DAYLIGHT
BEGIN:STANDARD
TZOFFSETFROM:-0500
TZOFFSETTO:-0600
TZNAME:CST
DTSTART:19701101T020000
RRULE:FREQ=YEARLY;BYMONTH=11;BYDAY=1SU
END:STANDARD
END:VTIMEZONE
BEGIN:VEVENT
DTSTAMP:20181221T160904Z
LOCATION:C2/3/4 Ballroom
DTSTART;TZID=America/Chicago:20181115T083000
DTEND;TZID=America/Chicago:20181115T170000
UID:submissions.supercomputing.org_SC18_sess324_post236@linklings.com
SUMMARY:MATEDOR: MAtrix, TEnsor, and Deep-Learning Optimized Routines
DESCRIPTION:Poster\nTech Program Reg Pass, Exhibits Reg Pass\n\nMATEDOR: M
 Atrix, TEnsor, and Deep-Learning Optimized Routines\n\nAbdelfattah, Dongar
 ra, Tomov, Yamazaki, Haidar\n\nThe MAtrix, TEnsor, and Deep-learning Optim
 ized Routines (MATEDOR) project develops software technologies and standar
 d APIs, along with a sustainable and portable library, for large-scale com
 putations that can be broken down into very small matrix or tensor computa
 tions. The main target of MATEDOR is to accelerate applications from impor
 tant fields that fit this profile, including deep learning, data mining, a
 strophysics, image and signal processing, hydrodynamics, and more.\n\nMATE
 DOR is a high-performance numerical library for batched linear algebra sub
 routines autotuned for modern processor architectures and system designs. 
 The MATEDOR library includes LAPACK-compliant routines that target many sm
 all dense problems, tensor, and application-specific operations, e.g., for
  deep-learning. These routines are constructed as much as possible out of 
 calls to batch BLAS routines and their look-alikes required in sparse comp
 utation context.
URL:https://sc18.supercomputing.org/presentation/?id=post236&sess=sess324
END:VEVENT
END:VCALENDAR

