BEGIN:VCALENDAR
VERSION:2.0
PRODID:Linklings LLC
BEGIN:VTIMEZONE
TZID:America/Chicago
X-LIC-LOCATION:America/Chicago
BEGIN:DAYLIGHT
TZOFFSETFROM:-0600
TZOFFSETTO:-0500
TZNAME:CDT
DTSTART:19700308T020000
RRULE:FREQ=YEARLY;BYMONTH=3;BYDAY=2SU
END:DAYLIGHT
BEGIN:STANDARD
TZOFFSETFROM:-0500
TZOFFSETTO:-0600
TZNAME:CST
DTSTART:19701101T020000
RRULE:FREQ=YEARLY;BYMONTH=11;BYDAY=1SU
END:STANDARD
END:VTIMEZONE
BEGIN:VEVENT
DTSTAMP:20181221T160909Z
LOCATION:C144
DTSTART;TZID=America/Chicago:20181114T171500
DTEND;TZID=America/Chicago:20181114T184500
UID:submissions.supercomputing.org_SC18_sess363_bof102@linklings.com
SUMMARY:PMIx: Enabling Workflow Orchestration
DESCRIPTION:Birds of a Feather\nSystem Software, Tech Program Reg Pass, Ex
 hibits Reg Pass, Exhibits - Exhibit Hall Only Reg Pass\n\nPMIx: Enabling W
 orkflow Orchestration\n\nCastain, Hursey\n\nThe PMI Exascale (PMIx) commun
 ity will be concluding its fourth year that included release of the PMIx v
 3 Standard. We will briefly review the last year's accomplishments, but th
 e majority of the meeting will focus on how community members are using PM
 Ix at the application level. Examples are expected to include population m
 odeling and swarm intelligence; coordination of resource utilization betwe
 en programming libraries;  orchestration of dynamic workflows; and recover
 y from failures.\n\nPlease join the discussion as we explore the expanding
  uses of PMIx beyond the traditional MPI/OpenSHMEM programming models.
URL:https://sc18.supercomputing.org/presentation/?id=bof102&sess=sess363
END:VEVENT
END:VCALENDAR

