BEGIN:VCALENDAR
VERSION:2.0
PRODID:Linklings LLC
BEGIN:VTIMEZONE
TZID:America/Chicago
X-LIC-LOCATION:America/Chicago
BEGIN:DAYLIGHT
TZOFFSETFROM:-0600
TZOFFSETTO:-0500
TZNAME:CDT
DTSTART:19700308T020000
RRULE:FREQ=YEARLY;BYMONTH=3;BYDAY=2SU
END:DAYLIGHT
BEGIN:STANDARD
TZOFFSETFROM:-0500
TZOFFSETTO:-0600
TZNAME:CST
DTSTART:19701101T020000
RRULE:FREQ=YEARLY;BYMONTH=11;BYDAY=1SU
END:STANDARD
END:VTIMEZONE
BEGIN:VEVENT
DTSTAMP:20181221T160908Z
LOCATION:Exhibit Hall B
DTSTART;TZID=America/Chicago:20181113T171500
DTEND;TZID=America/Chicago:20181113T184500
UID:submissions.supercomputing.org_SC18_sess373_bof112@linklings.com
SUMMARY:TOP500 Supercomputers
DESCRIPTION:Birds of a Feather\nTech Program Reg Pass, Exhibits Reg Pass, 
 Exhibits - Exhibit Hall Only Reg Pass\n\nTOP500 Supercomputers\n\nStrohmai
 er, Dongarra, Simon, Meuer\n\nThe TOP500 list of supercomputers serves as 
 a “Who’s Who” in the field of High Performance Computing (HPC). It started
  as a list of the most powerful supercomputers in the world and has evolve
 d to a major source of information about trends in HPC.  The 52nd TOP500 l
 ist will be published in November 2018 just in time for SC18. \n\nThis BoF
  will present detailed analyses of the TOP500 and discuss the changes in t
 he HPC marketplace during the past years. The BoF is meant as an open foru
 m for discussion and feedback between the TOP500 authors and the user comm
 unity.
URL:https://sc18.supercomputing.org/presentation/?id=bof112&sess=sess373
END:VEVENT
END:VCALENDAR

