BEGIN:VCALENDAR
VERSION:2.0
PRODID:Linklings LLC
BEGIN:VTIMEZONE
TZID:America/Chicago
X-LIC-LOCATION:America/Chicago
BEGIN:DAYLIGHT
TZOFFSETFROM:-0600
TZOFFSETTO:-0500
TZNAME:CDT
DTSTART:19700308T020000
RRULE:FREQ=YEARLY;BYMONTH=3;BYDAY=2SU
END:DAYLIGHT
BEGIN:STANDARD
TZOFFSETFROM:-0500
TZOFFSETTO:-0600
TZNAME:CST
DTSTART:19701101T020000
RRULE:FREQ=YEARLY;BYMONTH=11;BYDAY=1SU
END:STANDARD
END:VTIMEZONE
BEGIN:VEVENT
DTSTAMP:20181221T160908Z
LOCATION:C146
DTSTART;TZID=America/Chicago:20181113T121500
DTEND;TZID=America/Chicago:20181113T131500
UID:submissions.supercomputing.org_SC18_sess379_bof119@linklings.com
SUMMARY:Open MPI State of the Union 2018
DESCRIPTION:Birds of a Feather\nSystem Software, Tech Program Reg Pass, Ex
 hibits Reg Pass, Exhibits - Exhibit Hall Only Reg Pass\n\nOpen MPI State o
 f the Union 2018\n\nSquyres, Bosilca\n\nOpen MPI continues to drive the st
 art of the art in HPC.  This year, we've added new features,  fixed bugs, 
 improved performance, and collaborated with many across the HPC community.
   We'll  discuss what Open MPI has accomplished over the past year and pre
 sent a roadmap for the next year.\n\nOne of Open MPI's strength lies in it
 s diversity: we represent many different viewpoints across the HPC ecosyst
 em.  To that end, many developers from the community will be present to di
 scuss and answer your questions both during and after the BOF.
URL:https://sc18.supercomputing.org/presentation/?id=bof119&sess=sess379
END:VEVENT
END:VCALENDAR

