BEGIN:VCALENDAR
VERSION:2.0
PRODID:Linklings LLC
BEGIN:VTIMEZONE
TZID:America/Chicago
X-LIC-LOCATION:America/Chicago
BEGIN:DAYLIGHT
TZOFFSETFROM:-0600
TZOFFSETTO:-0500
TZNAME:CDT
DTSTART:19700308T020000
RRULE:FREQ=YEARLY;BYMONTH=3;BYDAY=2SU
END:DAYLIGHT
BEGIN:STANDARD
TZOFFSETFROM:-0500
TZOFFSETTO:-0600
TZNAME:CST
DTSTART:19701101T020000
RRULE:FREQ=YEARLY;BYMONTH=11;BYDAY=1SU
END:STANDARD
END:VTIMEZONE
BEGIN:VEVENT
DTSTAMP:20181221T160903Z
LOCATION:C147/148/154
DTSTART;TZID=America/Chicago:20181114T121500
DTEND;TZID=America/Chicago:20181114T131500
UID:submissions.supercomputing.org_SC18_sess410_bof143@linklings.com
SUMMARY:Big Data Challenge - How to Engage with Large Scale Facilities?
DESCRIPTION:Birds of a Feather\nTech Program Reg Pass, Exhibits Reg Pass, 
 Exhibits - Exhibit Hall Only Reg Pass\n\nBig Data Challenge - How to Engag
 e with Large Scale Facilities?\n\nTowns, Berberich\n\nIn recent years ther
 e has been a rapid growth in the number of large scale facilities (LSF) – 
 that produce large amounts of data. The classical examples are the Large H
 adron Collider and SKA. In the context of a set of concrete examples, this
  BoF will discuss both current and projected requirements for processing, 
 storing, sharing, and securing of data as well as data quantities, process
 ing needs, and expected data transfer needs with the goal of collecting an
  aggregate set of requirements from the LSFs allowing for gap analysis of 
 these requirements against the roadmaps of international HPC data centers.
URL:https://sc18.supercomputing.org/presentation/?id=bof143&sess=sess410
END:VEVENT
END:VCALENDAR

