BEGIN:VCALENDAR
VERSION:2.0
PRODID:Linklings LLC
BEGIN:VTIMEZONE
TZID:America/Chicago
X-LIC-LOCATION:America/Chicago
BEGIN:DAYLIGHT
TZOFFSETFROM:-0600
TZOFFSETTO:-0500
TZNAME:CDT
DTSTART:19700308T020000
RRULE:FREQ=YEARLY;BYMONTH=3;BYDAY=2SU
END:DAYLIGHT
BEGIN:STANDARD
TZOFFSETFROM:-0500
TZOFFSETTO:-0600
TZNAME:CST
DTSTART:19701101T020000
RRULE:FREQ=YEARLY;BYMONTH=11;BYDAY=1SU
END:STANDARD
END:VTIMEZONE
BEGIN:VEVENT
DTSTAMP:20181221T160903Z
LOCATION:D171
DTSTART;TZID=America/Chicago:20181114T121500
DTEND;TZID=America/Chicago:20181114T131500
UID:submissions.supercomputing.org_SC18_sess411_bof144@linklings.com
SUMMARY:Software Engineers: Careers in Research
DESCRIPTION:Birds of a Feather\nTech Program Reg Pass, Exhibits Reg Pass, 
 Exhibits - Exhibit Hall Only Reg Pass\n\nSoftware Engineers: Careers in Re
 search\n\nPritchard, Jones, Billings\n\nResearch organizations are increas
 ingly performing some sort of software development as part of their resear
 ch. Such software is often developed by researchers with a combined expert
 ise in both programming and a deep understanding of the research being per
 formed. While such developer/scientists are indispensable, they often do n
 ot have formal career paths, and often lack recognition within academia.\n
  \nResearchers in these roles are often designated Research Software Engin
 eers in the UK, US, and Europe, with the term also gaining traction around
  the world. This BoF aims to raise awareness of the role and bring the com
 munity together to address challenges.
URL:https://sc18.supercomputing.org/presentation/?id=bof144&sess=sess411
END:VEVENT
END:VCALENDAR

