BEGIN:VCALENDAR
VERSION:2.0
PRODID:Linklings LLC
BEGIN:VTIMEZONE
TZID:America/Chicago
X-LIC-LOCATION:America/Chicago
BEGIN:DAYLIGHT
TZOFFSETFROM:-0600
TZOFFSETTO:-0500
TZNAME:CDT
DTSTART:19700308T020000
RRULE:FREQ=YEARLY;BYMONTH=3;BYDAY=2SU
END:DAYLIGHT
BEGIN:STANDARD
TZOFFSETFROM:-0500
TZOFFSETTO:-0600
TZNAME:CST
DTSTART:19701101T020000
RRULE:FREQ=YEARLY;BYMONTH=11;BYDAY=1SU
END:STANDARD
END:VTIMEZONE
BEGIN:VEVENT
DTSTAMP:20181221T160903Z
LOCATION:D165
DTSTART;TZID=America/Chicago:20181113T121500
DTEND;TZID=America/Chicago:20181113T131500
UID:submissions.supercomputing.org_SC18_sess413_bof149@linklings.com
SUMMARY:Impacting Cancer with HPC: Opportunities and Challenges
DESCRIPTION:Birds of a Feather\nApplications, Tech Program Reg Pass, Exhib
 its Reg Pass, Exhibits - Exhibit Hall Only Reg Pass\n\nImpacting Cancer wi
 th HPC: Opportunities and Challenges\n\nStahlberg, Kovatch, Slater, Steink
 e\n\nHigh-Performance Computing is experiencing a dramatic increase in int
 erest as new frontiers in deep learning are explored, volumes and variety 
 of data are exploding, cloud-based HPC provides ready-access and extreme s
 cale computing leads to new questions and approaches.  Changes are occurri
 ng globally, providing new avenues for collaborations, identifying new ins
 ights to benefit all.  Key topics including the role of machine learning, 
 access to quality data, sharing and accessing predictive models, and insig
 hts from the patient perspectives.  Following the successful format of pas
 t years, the BoF will be informative and highly-interactive with presentat
 ions to inspire and encourage significant discussion among attendees.
URL:https://sc18.supercomputing.org/presentation/?id=bof149&sess=sess413
END:VEVENT
END:VCALENDAR

