BEGIN:VCALENDAR
VERSION:2.0
PRODID:Linklings LLC
BEGIN:VTIMEZONE
TZID:America/Chicago
X-LIC-LOCATION:America/Chicago
BEGIN:DAYLIGHT
TZOFFSETFROM:-0600
TZOFFSETTO:-0500
TZNAME:CDT
DTSTART:19700308T020000
RRULE:FREQ=YEARLY;BYMONTH=3;BYDAY=2SU
END:DAYLIGHT
BEGIN:STANDARD
TZOFFSETFROM:-0500
TZOFFSETTO:-0600
TZNAME:CST
DTSTART:19701101T020000
RRULE:FREQ=YEARLY;BYMONTH=11;BYDAY=1SU
END:STANDARD
END:VTIMEZONE
BEGIN:VEVENT
DTSTAMP:20181221T160903Z
LOCATION:D166
DTSTART;TZID=America/Chicago:20181113T121500
DTEND;TZID=America/Chicago:20181113T131500
UID:submissions.supercomputing.org_SC18_sess414_bof150@linklings.com
SUMMARY:Unified Communication X (UCX) Community
DESCRIPTION:Birds of a Feather\nArchitectures, Networks, Tech Program Reg 
 Pass, Exhibits Reg Pass, Exhibits - Exhibit Hall Only Reg Pass\n\nUnified 
 Communication X (UCX) Community\n\nShainer, Kuehn, Shamis, Panda, Benton\n
 \nIn order to exploit the capabilities of HPC systems, communication softw
 are needs to scale on millions of cores and support applications with adeq
 uate functionality to express their parallelism. UCX is a collaboration be
 tween industry, labs and academia that consolidates multiple technologies 
 to provide a unified open-source framework. The UCX project is managed by 
 the UCF consortium (http://www.ucfconsortium.org) and includes members fro
 m LANL, ORNL, ANL, Ohio State University, AMD, ARM, IBM, Mellanox, NVIDIA 
 and more. The session will serve as the UCX community meeting and will int
 roduce the latest development and specification to HPC developers and the 
 broader user community.
URL:https://sc18.supercomputing.org/presentation/?id=bof150&sess=sess414
END:VEVENT
END:VCALENDAR

