BEGIN:VCALENDAR
VERSION:2.0
PRODID:Linklings LLC
BEGIN:VTIMEZONE
TZID:America/Chicago
X-LIC-LOCATION:America/Chicago
BEGIN:DAYLIGHT
TZOFFSETFROM:-0600
TZOFFSETTO:-0500
TZNAME:CDT
DTSTART:19700308T020000
RRULE:FREQ=YEARLY;BYMONTH=3;BYDAY=2SU
END:DAYLIGHT
BEGIN:STANDARD
TZOFFSETFROM:-0500
TZOFFSETTO:-0600
TZNAME:CST
DTSTART:19701101T020000
RRULE:FREQ=YEARLY;BYMONTH=11;BYDAY=1SU
END:STANDARD
END:VTIMEZONE
BEGIN:VEVENT
DTSTAMP:20181221T160903Z
LOCATION:C155/156
DTSTART;TZID=America/Chicago:20181114T121500
DTEND;TZID=America/Chicago:20181114T131500
UID:submissions.supercomputing.org_SC18_sess418_bof156@linklings.com
SUMMARY:Batched, Reproducible, and Reduced Precision BLAS
DESCRIPTION:Birds of a Feather\nTech Program Reg Pass, Exhibits Reg Pass, 
 Exhibits - Exhibit Hall Only Reg Pass\n\nBatched, Reproducible, and Reduce
 d Precision BLAS\n\nLuszczek, Dongarra\n\nThis BoF will bring together the
  community focused on extending the Basic Linear Algebra Software (BLAS). 
 The existing BLAS proved to be effective in assisting portable, efficient 
 software for sequential and the current class of high-performance computer
 s. We’d like to investigate the possibility of extending the currently acc
 epted standards to provide greater parallelism for small size operations, 
 reproducibility, and reduced precision support. This is an open forum to d
 iscuss and formalize details. The agenda and talks from past workshops can
  be found here:\n\nhttp://bit.ly/Batch-BLAS-2017\n\nhttp://bit.ly/Batch-BL
 AS-2016\n\nhttp://icl.utk.edu/bblas/\n\n\nA standard interface will be con
 sidered for the Batched, Reproducible, and Reduced Precision BLAS.
URL:https://sc18.supercomputing.org/presentation/?id=bof156&sess=sess418
END:VEVENT
END:VCALENDAR

