BEGIN:VCALENDAR
VERSION:2.0
PRODID:Linklings LLC
BEGIN:VTIMEZONE
TZID:America/Chicago
X-LIC-LOCATION:America/Chicago
BEGIN:DAYLIGHT
TZOFFSETFROM:-0600
TZOFFSETTO:-0500
TZNAME:CDT
DTSTART:19700308T020000
RRULE:FREQ=YEARLY;BYMONTH=3;BYDAY=2SU
END:DAYLIGHT
BEGIN:STANDARD
TZOFFSETFROM:-0500
TZOFFSETTO:-0600
TZNAME:CST
DTSTART:19701101T020000
RRULE:FREQ=YEARLY;BYMONTH=11;BYDAY=1SU
END:STANDARD
END:VTIMEZONE
BEGIN:VEVENT
DTSTAMP:20181221T160903Z
LOCATION:D174
DTSTART;TZID=America/Chicago:20181114T171500
DTEND;TZID=America/Chicago:20181114T184500
UID:submissions.supercomputing.org_SC18_sess419_bof161@linklings.com
SUMMARY:Big Data and Exascale Computing (BDEC2) Application Roundtable
DESCRIPTION:Birds of a Feather\nTech Program Reg Pass, Exhibits Reg Pass, 
 Exhibits - Exhibit Hall Only Reg Pass\n\nBig Data and Exascale Computing (
 BDEC2) Application Roundtable\n\nFox, Badia, Dongarra\n\nThe emergence of 
 large scale data analytics in science and engineering, and the explosive g
 rowth of data generated by new instruments and IoT in edge environments, h
 as disrupted the landscape for exascale computing. The international Big D
 ata and Extreme-Scale Computing (BDEC) initiative is starting a new worksh
 op series, BDEC2, beginning with a comprehensive study of application requ
 irements. This BoF will review the Pathways to Convergence already identif
 ied and preview the application requirements to be discussed at the first 
 BDEC2 meeting in November 2018. We will seek input from the SC community o
 n the importance of HPC to such data-intensive applications.
URL:https://sc18.supercomputing.org/presentation/?id=bof161&sess=sess419
END:VEVENT
END:VCALENDAR

