BEGIN:VCALENDAR
VERSION:2.0
PRODID:Linklings LLC
BEGIN:VTIMEZONE
TZID:America/Chicago
X-LIC-LOCATION:America/Chicago
BEGIN:DAYLIGHT
TZOFFSETFROM:-0600
TZOFFSETTO:-0500
TZNAME:CDT
DTSTART:19700308T020000
RRULE:FREQ=YEARLY;BYMONTH=3;BYDAY=2SU
END:DAYLIGHT
BEGIN:STANDARD
TZOFFSETFROM:-0500
TZOFFSETTO:-0600
TZNAME:CST
DTSTART:19701101T020000
RRULE:FREQ=YEARLY;BYMONTH=11;BYDAY=1SU
END:STANDARD
END:VTIMEZONE
BEGIN:VEVENT
DTSTAMP:20181221T160910Z
LOCATION:D221
DTSTART;TZID=America/Chicago:20181114T121500
DTEND;TZID=America/Chicago:20181114T131500
UID:submissions.supercomputing.org_SC18_sess424_bof168@linklings.com
SUMMARY:Exascale Archiving - Challenges and Opportunities
DESCRIPTION:Birds of a Feather\nData Analytics, Storage, Visualization, Te
 ch Program Reg Pass, Exhibits Reg Pass, Exhibits - Exhibit Hall Only Reg P
 ass\n\nExascale Archiving - Challenges and Opportunities\n\nMcClelland, Gr
 ider, Starr, Vervaet, Gerry...\n\nArchives are changing. With exascale rap
 idly approaching and new workloads such as machine learning and IOT/instru
 ments shifting the use paradigm to read more than write, HPC organizations
  need archival storage systems that can support the rapidly increasing sca
 le and changing workloads while meeting the capacity and financial require
 ments of the organization.\n\nIn this interactive BoF, an expert panel of 
 leaders in the archiving industry will discuss and debate key archive requ
 irements, how archives need to change to meet modern workflows, cost consi
 derations for archives, and what long term data storage in future data cen
 ters will look like.
URL:https://sc18.supercomputing.org/presentation/?id=bof168&sess=sess424
END:VEVENT
END:VCALENDAR

