BEGIN:VCALENDAR
VERSION:2.0
PRODID:Linklings LLC
BEGIN:VTIMEZONE
TZID:America/Chicago
X-LIC-LOCATION:America/Chicago
BEGIN:DAYLIGHT
TZOFFSETFROM:-0600
TZOFFSETTO:-0500
TZNAME:CDT
DTSTART:19700308T020000
RRULE:FREQ=YEARLY;BYMONTH=3;BYDAY=2SU
END:DAYLIGHT
BEGIN:STANDARD
TZOFFSETFROM:-0500
TZOFFSETTO:-0600
TZNAME:CST
DTSTART:19701101T020000
RRULE:FREQ=YEARLY;BYMONTH=11;BYDAY=1SU
END:STANDARD
END:VTIMEZONE
BEGIN:VEVENT
DTSTAMP:20181221T160910Z
LOCATION:D220
DTSTART;TZID=America/Chicago:20181115T121500
DTEND;TZID=America/Chicago:20181115T131500
UID:submissions.supercomputing.org_SC18_sess433_bof180@linklings.com
SUMMARY:Achieving Performance on Large-Scale Intel Xeon-Based Systems
DESCRIPTION:Birds of a Feather\nTech Program Reg Pass, Exhibits Reg Pass, 
 Exhibits - Exhibit Hall Only Reg Pass\n\nAchieving Performance on Large-Sc
 ale Intel Xeon-Based Systems\n\nMartin, Fratkin, Suarez\n\nThis BoF, organ
 ized by the Intel Extreme Computing Users Group (IXPUG), will focus on ach
 ieving performance at scale on large Xeon-based systems. The community has
  gained experience in deploying generations of Xeon Phi and more recently 
 the Xeon Scalable family of processors and is moving to achieve sustained 
 performance. Through invited talks and open discussion, the BoF will provi
 de a forum for tool developers, applications programmers, HPC center staff
  and industry experts to share tips and techniques gained through deployme
 nts on large-scale systems. Special emphasis will be given to performance 
 across different Xeon architectures and in heterogeneous Xeon systems.
URL:https://sc18.supercomputing.org/presentation/?id=bof180&sess=sess433
END:VEVENT
END:VCALENDAR

